    BEGIN:VCALENDAR
VERSION:2.0
PRODID:-//HERZOG Kultur- &amp; Stadtmagazin - ECPv4.9.2//NONSGML v1.0//EN
CALSCALE:GREGORIAN
METHOD:PUBLISH
X-WR-CALNAME:HERZOG Kultur- &amp; Stadtmagazin
X-ORIGINAL-URL:https://www.herzog-magazin.de
X-WR-CALDESC:Veranstaltungen im HERZOG Kultur- &amp; Stadtmagazin
BEGIN:VEVENT
DTSTART;TZID=Europe/Berlin:20221027T180000
DTEND;TZID=Europe/Berlin:20221027T180000
DTSTAMP:20260422T200205
CREATED:20221025T101815Z
LAST-MODIFIED:20221025T101815Z
UID:91980-1666893600-1666893600@www.herzog-magazin.de
SUMMARY:Sitzung des Stadtrates
DESCRIPTION:Der Rat der Stadt Jülich trifft sich zu einer Sitzung am Donnerstag\, 27. Oktober\, um 18 Uhr im Großen Sitzungssaal des Neuen Rathauses. Auf der Tagesordnung stehen die Neuberechnung der Gebühren im Bestattungswesen\, die Anpassung der Gebühren- und Entgeltordnung für Parkautomaten\, die außerplanmäßige Bereitstellung von Mitteln für ein Mannschaftstransportfahrzeug (MTF) für die Feuerwehr Jülich\, der geplante Aufbau und Betrieb eines Energiemanagements für die städtischen Liegenschaften\, die Fortführung der Mitgliedschaft im indeland Tourismus e.V. sowie das Straßen- und Wegekonzept. \n
URL:https://www.herzog-magazin.de/event/sitzung-des-stadtrates-2/
LOCATION:Neues Rathaus\, Große Rurstraße 17\, Jülich\, NRW\, 52428\, Deutschland
GEO:50.92136;6.36263
X-APPLE-STRUCTURED-LOCATION;VALUE=URI;X-ADDRESS=Neues Rathaus Große Rurstraße 17 Jülich NRW 52428 Deutschland;X-APPLE-RADIUS=500;X-TITLE=Große Rurstraße 17:geo:6.36263,50.92136
CATEGORIES:Ausschuss,Politik
ATTACH;FMTTYPE=image/jpeg:https://www.herzog-magazin.de/wp-content/uploads/2022/10/Neues-Rathaus_Foto_Stadt-Gisa-Stein-1.jpg
ORGANIZER;CN="Stadt%20J%C3%BClich":MAILTO:info@juelich.de
END:VEVENT
END:VCALENDAR