    BEGIN:VCALENDAR
VERSION:2.0
PRODID:-//HERZOG Kultur- &amp; Stadtmagazin - ECPv4.9.2//NONSGML v1.0//EN
CALSCALE:GREGORIAN
METHOD:PUBLISH
X-WR-CALNAME:HERZOG Kultur- &amp; Stadtmagazin
X-ORIGINAL-URL:https://www.herzog-magazin.de
X-WR-CALDESC:Veranstaltungen im HERZOG Kultur- &amp; Stadtmagazin
BEGIN:VEVENT
DTSTART;TZID=Europe/Berlin:20230909T110000
DTEND;TZID=Europe/Berlin:20230909T160000
DTSTAMP:20260420T043251
CREATED:20230906T124228Z
LAST-MODIFIED:20230906T124228Z
UID:113749-1694257200-1694275200@www.herzog-magazin.de
SUMMARY:Sommerfest der GAL
DESCRIPTION:Die Gesamtschule Aldenhove Linnich (GAL) veranstaltet am Samstag\, 9. September\, ein Sommerfest. Das Fest findet von 11 bis 16 Uhr in der GAL in Linnich\, Bendenweg 21\, statt. Es soll mit einem kulinarischen\, kreativen und sportlichen Angebot interessierte Menschen verwöhnen. \n
URL:https://www.herzog-magazin.de/event/sommerfest-der-gal/
LOCATION:Gesamtschule Aldenhoven-Linnich\, Pestalozziring 12-18\, Aldenhoven\, NRW\, 52457\, Deutschland
CATEGORIES:Essen & Trinken,Festival & Markt,für Familien,Schule
ATTACH;FMTTYPE=image/jpeg:https://www.herzog-magazin.de/wp-content/uploads/2023/09/GAL_Sommerfest2023.jpg
END:VEVENT
END:VCALENDAR