    BEGIN:VCALENDAR
VERSION:2.0
PRODID:-//HERZOG Kultur- &amp; Stadtmagazin - ECPv4.9.2//NONSGML v1.0//EN
CALSCALE:GREGORIAN
METHOD:PUBLISH
X-WR-CALNAME:HERZOG Kultur- &amp; Stadtmagazin
X-ORIGINAL-URL:https://www.herzog-magazin.de
X-WR-CALDESC:Veranstaltungen im HERZOG Kultur- &amp; Stadtmagazin
BEGIN:VEVENT
DTSTART;TZID=Europe/Berlin:20250830T140000
DTEND;TZID=Europe/Berlin:20250830T140000
DTSTAMP:20260425T135118
CREATED:20250717T092054Z
LAST-MODIFIED:20250717T092054Z
UID:150784-1756562400-1756562400@www.herzog-magazin.de
SUMMARY:Sommerfest der KG Rursternchen Jülich
DESCRIPTION:Zwischen den Sessionen lädt die KG Rursternchen Jülich 1948 e.V. zum Sommerfest ins Karl-Knipprath-Stadion in Jülich. Nomen est omen: Hier werden am Samstag\, 30. August\, ab 14 Uhr Mitglieder\, Freunde und Unterstützer nicht nur gesellig sein und sich über Live Musik von der Band „Herrengedeck“ freuen\, sondern werden auch bei einem „Just for Fun Fussball Turnier“ in Bewegung kommen. Melden können sich Fussball-Mannschaften beispielsweise aus befreundeten Vereinen\, Tanzgruppen\, Mitglieder\, Freunde oder Familie. Der Spaß steht im Vordergrund und daher ist Kostümierung Pflicht. \nDie Modalitäten sind einfach: Gespielt wird 6 gegen 6 inklusive Torwart\, allerdings dürfen nicht mehr als drei männliche Spieler in der Mannschaft sein. Die Spielzeit beträgt einmal 6 Minuten und die Abseitsregeln werden aufgehoben. Grätschen ist verboten. Die Anmeldegebühr beträgt 15 Euro pro Team und kann am Tag vor Ort gezahlt werden. Turniermeldungen sollten per Mail an Kontakt@rursternchen.de oder die 1. Vorsitzende\, Jasmin Hamann\, jasmin-hamnn@hotmail.com erfolgen. \n
URL:https://www.herzog-magazin.de/event/sommerfest-der-kg-rursternchen-juelich/
LOCATION:Karl Knipprath Stadion\, Stadionweg 1\, Jülich\, 52428
GEO:50.9245985;6.3491896
X-APPLE-STRUCTURED-LOCATION;VALUE=URI;X-ADDRESS=Karl Knipprath Stadion Stadionweg 1 Jülich 52428;X-APPLE-RADIUS=500;X-TITLE=Stadionweg 1:geo:6.3491896,50.9245985
CATEGORIES:Brauchtum,für Familien,Musik,Sport
ATTACH;FMTTYPE=image/jpeg:https://www.herzog-magazin.de/wp-content/uploads/2025/07/Herrenjedeck.jpg
ORGANIZER;CN="KG%20Rursternchen%201948%20e.V.":MAILTO:stern@rursternchen.de
END:VEVENT
END:VCALENDAR