    BEGIN:VCALENDAR
VERSION:2.0
PRODID:-//HERZOG Kultur- &amp; Stadtmagazin - ECPv4.9.2//NONSGML v1.0//EN
CALSCALE:GREGORIAN
METHOD:PUBLISH
X-WR-CALNAME:HERZOG Kultur- &amp; Stadtmagazin
X-ORIGINAL-URL:https://www.herzog-magazin.de
X-WR-CALDESC:Veranstaltungen im HERZOG Kultur- &amp; Stadtmagazin
BEGIN:VEVENT
DTSTART;TZID=Europe/Berlin:20230517T200000
DTEND;TZID=Europe/Berlin:20230517T200000
DTSTAMP:20260422T165820
CREATED:20230417T201919Z
LAST-MODIFIED:20230417T202026Z
UID:104641-1684353600-1684353600@www.herzog-magazin.de
SUMMARY:Sonne und Beton
DESCRIPTION:Drama\, Krimi\, Abenteuer | Deutschland  2022 | FSK: ab 12 | 119 Min. | 6.50 Euro / 6.00 Euro erm. | Regie: David Wnendt | Darsteller: Levy Rico Arcos\, Vincent Wiemer\, Rafael Klein-Heßling\, Aaron Maldonado-Morales | Drehbuch: Felix Lobrecht\, David Wnendt \nBerlin-Gropiusstadt im Rekordsommer 2003. In den Parks stinkt es nach Hundescheiße\, überall Scherben\, in den Ecken stehen Dealer. Wer hier lebt\, ist Gangster oder Opfer. Lukas\, Gino und Julius sind solche Opfer. Kein Geld fürs Schwimmbad\, kein Glück in der Liebe und nur Stress zu Hause. Als sie im Park Gras kaufen wollen\, geraten sie zwischen rivalisierende Dealer. Die verprügeln Lukas und wollen 500 Euro Schutzgeld. Wie soll Lukas das Geld auftreiben? Sein neuer Klassenkamerad Sanchez hat eine Idee: Einfach in die Schule einbrechen\, die neuen Computer aus dem Lager schleppen und verkaufen. Dann sind sie alle Geldsorgen los. Der Plan gelingt. Fast \nEINE VERANSTALTUNG VON BÜNDNIS 90 / DIE GRÜNEN JÜLICH. \n
URL:https://www.herzog-magazin.de/event/sonne-und-beton/
LOCATION:Kulturbahnhof (KuBa) Jülich\, Bahnhofsstraße 13\, Jülich\, NRW\, 52428\, Deutschland
GEO:50.91828;6.36768
X-APPLE-STRUCTURED-LOCATION;VALUE=URI;X-ADDRESS=Kulturbahnhof (KuBa) Jülich Bahnhofsstraße 13 Jülich NRW 52428 Deutschland;X-APPLE-RADIUS=500;X-TITLE=Bahnhofsstraße 13:geo:6.36768,50.91828
CATEGORIES:Kino
ATTACH;FMTTYPE=image/jpeg:https://www.herzog-magazin.de/wp-content/uploads/2023/04/maxresdefault-7.jpg
END:VEVENT
END:VCALENDAR