    BEGIN:VCALENDAR
VERSION:2.0
PRODID:-//HERZOG Kultur- &amp; Stadtmagazin - ECPv4.9.2//NONSGML v1.0//EN
CALSCALE:GREGORIAN
METHOD:PUBLISH
X-WR-CALNAME:HERZOG Kultur- &amp; Stadtmagazin
X-ORIGINAL-URL:https://www.herzog-magazin.de
X-WR-CALDESC:Veranstaltungen im HERZOG Kultur- &amp; Stadtmagazin
BEGIN:VEVENT
DTSTART;TZID=Europe/Berlin:20191201T113000
DTEND;TZID=Europe/Berlin:20191201T131500
DTSTAMP:20260420T130755
CREATED:20191125T151543Z
LAST-MODIFIED:20191125T151543Z
UID:31671-1575199800-1575206100@www.herzog-magazin.de
SUMMARY:Sonntagsmatinee über Heimatliteratinnen
DESCRIPTION:Zur Sonntagsmatinee laden Gudrun Kaschluhn und die VHS Jülicher Land am Sonntag\, 1. Dezember\, von 11:30 bis 13:15 Uhr in die Stadtbücherei Jülich ein. Das Thema lautet: „Über Schriftstellerinnen und ihre Bücher zum Thema Heimat“. Der Eintritt kostet 6 Euro. \nIst das Thema Heimat in der Literatur seit Juli Zeh ein Modethema? Kann ein Roman der einen fremden Lebensraum beschreibt\, gleichzeitig ein Heimatroman sein? Muss das Dorfmilieu im Mittelpunkt stehen\, oder ist der Roman von „Regina Scheer\, Gott wohnt im Wedding“ ein Heimatroman? „Ann Weisgraber\, Unter Heiligen“ hat viel Lokalkolorit\, aber reicht das für einen Heimatroman? \nIn der Sonntagsmatinee wird Gudrun Kaschluhn über bekannte und noch unbekannte Autorinnen und ihre Bücher reden\, dabei den Aspekt des Heimatromans immer berücksichtigen. Die Bücher der Leipziger Schriftstellerin Daniela Krien wird sie vorstellen\, denn an diesem Sonntagvormittag will sie gemeinsam mit ihrem Publikum auf Entdeckungsreise gehen\, viele aktuelle Lesetipps inklusive. \n
URL:https://www.herzog-magazin.de/event/sonntagsmatinee-ueber-heimatliteratinnen/
LOCATION:Stadtbücherei Jülich\, Kleine Rurstraße 42\, Jülich\, NRW\, 52428\, Deutschland
GEO:50.9209335;6.3559376
X-APPLE-STRUCTURED-LOCATION;VALUE=URI;X-ADDRESS=Stadtbücherei Jülich Kleine Rurstraße 42 Jülich NRW 52428 Deutschland;X-APPLE-RADIUS=500;X-TITLE=Kleine Rurstraße 42:geo:6.3559376,50.9209335
CATEGORIES:kulturelle Bildung,Literatur,Vortrag
ATTACH;FMTTYPE=image/jpeg:https://www.herzog-magazin.de/wp-content/uploads/2018/05/Bücher.jpg
END:VEVENT
END:VCALENDAR