    BEGIN:VCALENDAR
VERSION:2.0
PRODID:-//HERZOG Kultur- &amp; Stadtmagazin - ECPv4.9.2//NONSGML v1.0//EN
CALSCALE:GREGORIAN
METHOD:PUBLISH
X-WR-CALNAME:HERZOG Kultur- &amp; Stadtmagazin
X-ORIGINAL-URL:https://www.herzog-magazin.de
X-WR-CALDESC:Veranstaltungen im HERZOG Kultur- &amp; Stadtmagazin
BEGIN:VEVENT
DTSTART;TZID=Europe/Berlin:20191019T200000
DTEND;TZID=Europe/Berlin:20191019T200000
DTSTAMP:20260425T023304
CREATED:20190912T094557Z
LAST-MODIFIED:20190912T094557Z
UID:29017-1571515200-1571515200@www.herzog-magazin.de
SUMMARY:Soul zum 19-jährigen NoiseLess
DESCRIPTION:Ihr 19-jähriges Bestehen feiert die NoiseLess Reihe am Samstag\, 19. Oktober. Für dieses besondere Datum hat sich das NoiseLess Team Musik aus Düren eingeladen. Die Soul Drops werden an diesem Abend in der Kuba Halle auftreten. \nDie Dürener Band „Soul Drops“ wurde im März 2016 von der Sängerin Susan Lentzen ins Leben gerufen. Die fünf Soul Drops (Gesang: Susan Lentzen\, Gitarre: Tobias Bünning\, Keyboard: Jochen Förster\, Bass: Bernd Rensinghof\, Schlagzeug: Sebastian Römer) fühlen sich zu bekannten Klassikern im Vintage Style aus den wilden 50er Jahren und den Swinging Sixties hingezogen. Mit einer breiten Songauswahl wird leidenschaftlicher Soul\, spritziger Blues oder auch feinster Jazz (Julie London\, Randy Newman\, Marvin Gaye\, Nancy Sinatra\, Dusty Springfield) neu interpretiert\, gespielt\, gelebt und geliebt.  \nJe nach Stimmung und Veranstaltung lassen es sich die Fünf nicht nehmen\, einen kleinen Abstecher in Richtung „Rock“ zu unternehmen. Bei heißen Grooves geht dann von Tina Turner über AC/DC bis hin zu Led Zeppelin gewaltig die Post ab. Besetzung:  \nEinlass ist um 19:30 Uhr im Kulturbahnhof Jülich\, große Halle. Beginn ist um 20 Uhr\, der Eintritt beträgt 5 Euro. \n
URL:https://www.herzog-magazin.de/event/soul-zum-19-jaehrigen-noiseless/
LOCATION:Kulturbahnhof (KuBa) Jülich\, Bahnhofsstraße 13\, Jülich\, NRW\, 52428\, Deutschland
GEO:50.91828;6.36768
X-APPLE-STRUCTURED-LOCATION;VALUE=URI;X-ADDRESS=Kulturbahnhof (KuBa) Jülich Bahnhofsstraße 13 Jülich NRW 52428 Deutschland;X-APPLE-RADIUS=500;X-TITLE=Bahnhofsstraße 13:geo:6.36768,50.91828
CATEGORIES:Musik,Musik & Konzerte
ATTACH;FMTTYPE=image/jpeg:https://www.herzog-magazin.de/wp-content/uploads/2019/09/Soul_Drops_Netz.jpg
ORGANIZER;CN="Virginia%20Lisken-Dorp":MAILTO:info@noiseless-juelich.de
END:VEVENT
END:VCALENDAR