    BEGIN:VCALENDAR
VERSION:2.0
PRODID:-//HERZOG Kultur- &amp; Stadtmagazin - ECPv4.9.2//NONSGML v1.0//EN
CALSCALE:GREGORIAN
METHOD:PUBLISH
X-WR-CALNAME:HERZOG Kultur- &amp; Stadtmagazin
X-ORIGINAL-URL:https://www.herzog-magazin.de
X-WR-CALDESC:Veranstaltungen im HERZOG Kultur- &amp; Stadtmagazin
BEGIN:VEVENT
DTSTART;TZID=Europe/Berlin:20230909T140000
DTEND;TZID=Europe/Berlin:20230909T180000
DTSTAMP:20260420T125551
CREATED:20230904T104254Z
LAST-MODIFIED:20230904T104254Z
UID:113545-1694268000-1694282400@www.herzog-magazin.de
SUMMARY:SpatzenNest: Kitafest 30+2
DESCRIPTION:32 Jahre SpatzenNest feiert der Verein am Samstag\, 9. September\, von 14 bis 18 Uhr in der Ki. Das „Kitafest 30+2“ im SpatzenNest im Mersch-Pattern\, Kreuzstraße 1\, wird um 14 Uhr von Bürgermeister Axel Fuchs eröffnet. Weiterhin sind bis 18 Uhr eine Mini Playback Show\, eine Hüpfburg sowie weiteres Spiel und Spaß für Klein und Groß geplant. Für das leibliche Wohl sorgen eine Cafeteria und ein Imbisswagen.  \nAbends geht es ab 19 Uhr mit Musik und Tanz weiter. Auch dann sorgt ein Imbisswagen für zünftiges Essen sowie ein Cocktailwagen für Getränke. \nWeitere Infos sind unter www.spatzennest-juelich.de erhältlich. \n
URL:https://www.herzog-magazin.de/event/spatzennest-kitafest-302/
LOCATION:SpatzenNest e.V.\, Kreuzstraße 1\, Mersch-Pattern\, NRW\, 52428\, Deutschland
GEO:50.9593426;6.3820376
X-APPLE-STRUCTURED-LOCATION;VALUE=URI;X-ADDRESS=SpatzenNest e.V. Kreuzstraße 1 Mersch-Pattern NRW 52428 Deutschland;X-APPLE-RADIUS=500;X-TITLE=Kreuzstraße 1:geo:6.3820376,50.9593426
CATEGORIES:Essen & Trinken,Festival & Markt,für Familien,Musik,Tanz
ATTACH;FMTTYPE=image/jpeg:https://www.herzog-magazin.de/wp-content/uploads/2023/09/SpatzenNest_Kitafest322.jpg
ORGANIZER;CN="SpatzenNest%20e.V.":MAILTO:info@spatzennest-juelich.de
END:VEVENT
END:VCALENDAR