    BEGIN:VCALENDAR
VERSION:2.0
PRODID:-//HERZOG Kultur- &amp; Stadtmagazin - ECPv4.9.2//NONSGML v1.0//EN
CALSCALE:GREGORIAN
METHOD:PUBLISH
X-WR-CALNAME:HERZOG Kultur- &amp; Stadtmagazin
X-ORIGINAL-URL:https://www.herzog-magazin.de
X-WR-CALDESC:Veranstaltungen im HERZOG Kultur- &amp; Stadtmagazin
BEGIN:VEVENT
DTSTART;TZID=Europe/Berlin:20221028T130000
DTEND;TZID=Europe/Berlin:20221028T170000
DTSTAMP:20260423T014312
CREATED:20221014T144306Z
LAST-MODIFIED:20221014T144306Z
UID:90696-1666962000-1666976400@www.herzog-magazin.de
SUMMARY:St. Marien-Hospital Düren: Brustkrebs-Infotag
DESCRIPTION:„Frauen stärken“: Brustkrebs-Infotag mit Beratungsangeboten und Abtastkursen in Birkesdorf: Kooperierendes Brustzentrum am St. Marien-Hospital Düren lädt zu Informationsveranstaltung ins Pflegebildungszentrum ein. Der Monat Oktober ist weltweit dem Brustkrebs gewidmet. Die pinkfarbene Schleife gilt hierbei als internationales Zeichen für mehr Aufmerksamkeit und Früherkennungsmaßnahmen der Krankheit und als Symbol der Solidarität mit daran erkrankten Patientinnen. Immerhin ist Brustkrebs mit etwa 30 Prozent aller Krebsfälle die häufigste maligne Krebserkrankung bei Frauen in Deutschland.  \nUm darüber zu informieren\, welche Symptome auf Brustkrebs hinweisen\, wie man seine Brust selbst abtasten kann\, und wo Erkrankte und Angehörige Unterstützung finden können\, veranstaltet das Brustzentrum am St. Marien-Hospital am Freitag\, 28. Oktober\, einen interdisziplinären Brustkrebs-Informationstag im Pflegebildungszentrum (PBZ). Unter dem Motto „Frauen stärken“ wird es von 13 bis 17 Uhr ein vielseitiges Informations-\, Beratungs- und Kursangebot geben. \n„Um ein Zeichen dafür zu setzen\, wie wichtig eine umfassende Aufklärung\, eine frühzeitige Diagnostik und eine interdisziplinäre Begleitung der Erkrankten sind\, tragen wir im Oktober\, dem offiziellen Brustkrebsmonat\, auf Station sowie bei den Beratungs- und Untersuchungsterminen alle pinkfarbene Masken und Schleifen“\, erklärt Oberärztin Dr. Anna Rüland\, Sektionsleiterin des Brustzentrums in Düren-Birkesdorf\, in dem alle Erkrankungen der weiblichen Brust nach neuesten wissenschaftlichen Erkenntnissen abgeklärt\, diagnostiziert und therapiert werden. Durch die Kooperation mit den Brustzentren des St. Elisabeth-Krankenhauses in Köln-Hohenlind und der Evangelischen Kliniken Essen-Mitte können Brustkrebs-Patientinnen zeitnah auch modernste Studienkonzepte angeboten werden. \nDie Fachärztin für Frauenheilkunde und Geburtshilfe fährt fort: „Mit dem Brustkrebs-Infotag möchten wir das Bewusstsein von Frauen für ihren Körper stärken\, ihnen die Angst vor dem Thema Krebs und der eigenen Untersuchung nehmen\, ihnen aber auch aufzeigen\, dass es eine Vielzahl an Vorsorge-\, Behandlungs- und Unterstützungsprogrammen gibt. So haben wir bei uns im Brustzentrum diverse unterstützende Angebote von Fachärzten\, Therapeuten und Kooperationspartnern\, dem Sozialdienst und natürlich auch von unseren speziell ausgebildeten Breast Care Nurses.“ \nOb Naturheilkunde\, Screening und Mammografie\, Physiotherapie\, „Sport und Krebs“\, familiärer Brust- und Eierstockkrebs\, Onko-Café\, Selbsthilfegruppe\, Patinnenprojekt…: Am 28. Oktober dreht sich alles um Beratung\, Prävention\, Diagnostik und Therapie von Mammakarzinomen. Damit der praktische Aspekt nicht zu kurz kommt\, wird es jeweils um 14 und um 15 Uhr einen Selbstuntersuchungskurs für Frauen mit den Brustschwestern und parallel ein Achtsamkeits- und Entspannungstraining mit einer Psychoonkologin geben.  \nZum Brustkrebs-Infotag sind alle Frauen\, Betroffene und Angehörige\, die sich in entspannter Atmosphäre umfassend informieren und persönlich beraten lassen möchten\, herzlich eingeladen. Für die beiden Abtastkurse\, die in einem zweiten\, ruhigen Raum im Pflegebildungszentrum in Düren\, Hospitalstraße 44\, stattfinden\, nehmen die Brustschwestern im St. Marien-Hospital zwecks begrenzter Teilnehmeranzahl ab sofort Anmeldungen per Telefon 02421 / 805-4663 oder per E-Mail an  brustzentrum.birkesdorf@ct-west.de entgegen. \n
URL:https://www.herzog-magazin.de/event/st-marien-hospital-dueren-brustkrebs-infotag/
LOCATION:St. Marien-Hospital Düren\, Hospitalstr. 44\, Düren\, NRW\, 52353\, Deutschland
CATEGORIES:Gesundheit,Medizin
ATTACH;FMTTYPE=image/jpeg:https://www.herzog-magazin.de/wp-content/uploads/2022/10/Brustkrebs-Infotag-Okt-2022.jpg
ORGANIZER;CN="Josefsgesellschaft%20gGmbH":MAILTO:info@josefs-gesellschaft.de
END:VEVENT
END:VCALENDAR