    BEGIN:VCALENDAR
VERSION:2.0
PRODID:-//HERZOG Kultur- &amp; Stadtmagazin - ECPv4.9.2//NONSGML v1.0//EN
CALSCALE:GREGORIAN
METHOD:PUBLISH
X-WR-CALNAME:HERZOG Kultur- &amp; Stadtmagazin
X-ORIGINAL-URL:https://www.herzog-magazin.de
X-WR-CALDESC:Veranstaltungen im HERZOG Kultur- &amp; Stadtmagazin
BEGIN:VEVENT
DTSTART;TZID=Europe/Berlin:20181106T170000
DTEND;TZID=Europe/Berlin:20181106T170000
DTSTAMP:20260424T112615
CREATED:20181029T113520Z
LAST-MODIFIED:20181029T113520Z
UID:17413-1541523600-1541523600@www.herzog-magazin.de
SUMMARY:St. Martin in Jülich: Kita "Purzelbaum" Broich
DESCRIPTION:
URL:https://www.herzog-magazin.de/event/st-martin-in-juelich-kita-purzelbaum-broich/
CATEGORIES:Brauchtum,für Kinder
ATTACH;FMTTYPE=image/jpeg:https://www.herzog-magazin.de/wp-content/uploads/2017/11/Laternen-St-Martin-Juelich.jpg
END:VEVENT
END:VCALENDAR