    BEGIN:VCALENDAR
VERSION:2.0
PRODID:-//HERZOG Kultur- &amp; Stadtmagazin - ECPv4.9.2//NONSGML v1.0//EN
CALSCALE:GREGORIAN
METHOD:PUBLISH
X-WR-CALNAME:HERZOG Kultur- &amp; Stadtmagazin
X-ORIGINAL-URL:https://www.herzog-magazin.de
X-WR-CALDESC:Veranstaltungen im HERZOG Kultur- &amp; Stadtmagazin
BEGIN:VEVENT
DTSTART;TZID=Europe/Berlin:20190703T180000
DTEND;TZID=Europe/Berlin:20190703T200000
DTSTAMP:20260425T184816
CREATED:20190618T154707Z
LAST-MODIFIED:20190618T154707Z
UID:26017-1562176800-1562184000@www.herzog-magazin.de
SUMMARY:Stadt Jülich: Dialogforum für lokale Entwicklungspolitik
DESCRIPTION:Dialogforum soll lokale Entwicklungspolitik anstoßen und den Austausch zwischen Zugewanderten und Jülicher Stadtverwaltung fördern: MiGlobe ist ein mit NRW Landesmitteln gefördertes Projekt\, das zum Ziel hat\, den Dialog in NRW Kommunen zwischen Zugewanderten\, Stadtverwaltung und Akteuren zu ermöglichen und zu unterstützen\, um lokale Entwicklungspolitik anzustoßen. Der Fokus liegt nicht alleine darauf\, mit Kommunen in anderen Ländern Partnerschaften einzugehen\, sondern vor allem auch darauf\, die Potentiale der Zugewanderten für die kommunale Entwicklung nutzbar zu machen. \nVieles gelingt in Jülich schon gemeinsam wie zum Beispiel das Fest der Kulturen\, die Interkulturelle Öffnung der Verwaltung oder die Antirassismusarbeit. Jedoch erhofft sich die Stadtverwaltung unter Federführung des Amts für Familie\, Generationen und Integration mit diesem Dialogforum eine Verbesserung des Austausches mit den verschiedenen Akteuren und vor allem auch mit den Migrantenselbstorganisationen. Der Integrationsrat spielt dabei eine wichtige Rolle. \nAnfang Juli soll es nun ein erstes ergebnisoffenes Dialogforum geben. Wenn nach dieser Veranstaltung Interesse besteht\, den Prozess fortzuführen und vor allem gemeinsam Ideen entwickelt werden\, können für zukünftige Projekte dann können im Rahmen von MiGlobe weitere Beratungen und Dialogforen durchgeführt werden. Die Kosten für diese Veranstaltungen werden aus NRW-Projektmitteln bestritten. Die Stadt Jülich lädt interessierte Bürgerinnen und Bürger ein zu einem ersten Dialogforum unter der fachlichen Moderation von Beratern der „Servicestelle NRW Kommunen in der Einen Welt“ am Mittwoch\, 3. Juli\, von 18 bis ca. 20 Uhr im Kleinen Sitzungssaal des Neuen Rathauses\, Große Rurstraße 17 in Jülich.  \nVorherige Anmeldung zum Dialogforum ist erforderlich im Amt für Familie\, Generationen und Integration\, E-Mail: BLenzen@juelich.de oder Tel. 02461 / 63239 (Beatrix Lenzen). Informationen zur Veranstaltung unter www.juelich.de \n
URL:https://www.herzog-magazin.de/event/stadt-juelich-dialogforum-fuer-lokale-entwicklungspolitik/
LOCATION:Neues Rathaus\, Große Rurstraße 17\, Jülich\, NRW\, 52428\, Deutschland
GEO:50.92136;6.36263
X-APPLE-STRUCTURED-LOCATION;VALUE=URI;X-ADDRESS=Neues Rathaus Große Rurstraße 17 Jülich NRW 52428 Deutschland;X-APPLE-RADIUS=500;X-TITLE=Große Rurstraße 17:geo:6.36263,50.92136
CATEGORIES:Informationsveranstaltung,Sonstiges,Versammlungen
ATTACH;FMTTYPE=image/jpeg:https://www.herzog-magazin.de/wp-content/uploads/2018/04/Integrationsrat-FotoCapri23Auto_pixabay.jpg
END:VEVENT
END:VCALENDAR