    BEGIN:VCALENDAR
VERSION:2.0
PRODID:-//HERZOG Kultur- &amp; Stadtmagazin - ECPv4.9.2//NONSGML v1.0//EN
CALSCALE:GREGORIAN
METHOD:PUBLISH
X-WR-CALNAME:HERZOG Kultur- &amp; Stadtmagazin
X-ORIGINAL-URL:https://www.herzog-magazin.de
X-WR-CALDESC:Veranstaltungen im HERZOG Kultur- &amp; Stadtmagazin
BEGIN:VEVENT
DTSTART;TZID=Europe/Berlin:20221215T180000
DTEND;TZID=Europe/Berlin:20221215T180000
DTSTAMP:20260424T213256
CREATED:20221205T140111Z
LAST-MODIFIED:20221205T140111Z
UID:94901-1671127200-1671127200@www.herzog-magazin.de
SUMMARY:Stadtrat tagt in der Kulturmuschel
DESCRIPTION:In der Kulturmuschel im Stadtgarten des Brückenkopf-Parks Jülich findet sich der Rat der Stadt Jülich am Donnerstag\, 15. Dezember\, um 18 Uhr zu einer öffentlichen Sitzung ein. Hier wird weiter über die Gebühren von Straßenreinigung\, Entwässerung der Grundstücke und den Anschluss an die öffentliche Abwasseranlage\, Bestattungswesen und die Entsorgung von Abfällen beraten.  \nZudem steht die Denkmalbereichssatzung der Stadt Jülich für den Denkmalbereich Nr. 1 „Renaissance-Stadtgrundriss mit Befestigungswerken und Wallanlagen“ zur Disposition. Neben der überplanmäßigen Bereitstellung von Mitteln im Haushalt 2022 unter anderem für die Energiekosten der Schulen und der Straßenunterhaltung soll der Entwurf der Haushaltssatzung 2023 eingebracht werden. \nWeitere Themen sind der Jahresabschluss der Stadtentwicklungsgesellschaft und die Bebauungspläne in der Güstener Justinastraße und dem Stetternicher Straßenausbau Auf der Klause. Auch eine Ordnungsbehördliche Verordnung für ein Verbot des Mitführens und des Verkaufs von Getränken in Glasbehältern in bestimmten Straßen / Bereichen in der Stadt Jülich am 16. Februar steht auf der Tagesordnung. \n
URL:https://www.herzog-magazin.de/event/stadtrat-tagt-in-der-kulturmuschel/
LOCATION:Kulturmuschel im Brückenkopf-Park\, Brückenkopf-Park Jülich\, Jülich\, NRW\, 52428\, Deutschland
CATEGORIES:Ausschuss,Politik
ATTACH;FMTTYPE=image/jpeg:https://www.herzog-magazin.de/wp-content/uploads/2022/12/Muschel-Brueckenkopf-Park-Foto-Olaf-Kiel-1-2.jpg
ORGANIZER;CN="Stadt%20J%C3%BClich":MAILTO:info@juelich.de
END:VEVENT
END:VCALENDAR