    BEGIN:VCALENDAR
VERSION:2.0
PRODID:-//HERZOG Kultur- &amp; Stadtmagazin - ECPv4.9.2//NONSGML v1.0//EN
CALSCALE:GREGORIAN
METHOD:PUBLISH
X-WR-CALNAME:HERZOG Kultur- &amp; Stadtmagazin
X-ORIGINAL-URL:https://www.herzog-magazin.de
X-WR-CALDESC:Veranstaltungen im HERZOG Kultur- &amp; Stadtmagazin
BEGIN:VEVENT
DTSTART;TZID=Europe/Berlin:20230714T190000
DTEND;TZID=Europe/Berlin:20230714T190000
DTSTAMP:20260424T065728
CREATED:20230710T100834Z
LAST-MODIFIED:20230710T100834Z
UID:110615-1689361200-1689361200@www.herzog-magazin.de
SUMMARY:Stammtisch der Jülicher Grünen
DESCRIPTION:Die Jülicher Grünen laden am Freitag\, 14. Juli\, zum Stammtisch im Café GusToso ein. Alle interessierten Menschen können ab 19 Uhr im Café GusToso am Marktplatz ihre Fragen und Anregungen an die Grünen loswerden. \nWer wollte schon immer mal mit Stadtverordneten über politische Entscheidungen diskutieren oder hat Interesse\, mehr über die kommunalpolitische Arbeit zu erfahren? Dazu gibt es beim Stammtisch der Grünen am 14. Juli wieder die Gelegenheit. Es soll eine größere Transparenz der Beschlüsse erreicht und Hintergründe von Entscheidungen besser verständlich gemacht werden.  \nIn ungezwungener Atmosphäre werden die Grünen dort Rede und Antwort stehen und gerne Stellung zu strittigen Beschlüssen der letzten Monate nehmen. Auch wer die Grünen nur kennenlernen will\, ist herzlich eingeladen vorbeizukommen.  \nDer Grüne Stammtisch findet vierteljährlich am zweiten Freitag im Quartal statt. Eine Anmeldung unter info@gruene-juelich.de erleichtert die Organisation. Aber auch spontane Gäste sind jederzeit willkommen. \n
URL:https://www.herzog-magazin.de/event/stammtisch-der-juelicher-gruenen/
LOCATION:Café GusToso\, Marktplatz 2\, Jülich\, NRW\, 52428\, Deutschland
CATEGORIES:Informationsveranstaltung,Politik
ATTACH;FMTTYPE=image/jpeg:https://www.herzog-magazin.de/wp-content/uploads/2023/07/Gruenen_Stammtisch_2023Juli.jpg
END:VEVENT
END:VCALENDAR