    BEGIN:VCALENDAR
VERSION:2.0
PRODID:-//HERZOG Kultur- &amp; Stadtmagazin - ECPv4.9.2//NONSGML v1.0//EN
CALSCALE:GREGORIAN
METHOD:PUBLISH
X-WR-CALNAME:HERZOG Kultur- &amp; Stadtmagazin
X-ORIGINAL-URL:https://www.herzog-magazin.de
X-WR-CALDESC:Veranstaltungen im HERZOG Kultur- &amp; Stadtmagazin
BEGIN:VEVENT
DTSTART;TZID=Europe/Berlin:20260411T200000
DTEND;TZID=Europe/Berlin:20260411T200000
DTSTAMP:20260421T083317
CREATED:20260305T083219Z
LAST-MODIFIED:20260305T083243Z
UID:164930-1775937600-1775937600@www.herzog-magazin.de
SUMMARY:Sticky Fingers im Kuba
DESCRIPTION:Am  Samstag\, 11. April gastieren die Sticky Fingers im Rahmen der “NoiseFull” Musikreihe im Kulturbahnhof Jülich\, Bahnhofstraße 13. Einlass ist ab 19 Uhr\, Beginn um 20 Uhr. \n1978\, also vor nunmehr 48 Jahren\, präsentierten sich die Sticky Fingers als eine der ersten Tribute-Bands in Deutschland mit einer überzeugenden Rock-Show\, die durch die vielfältigen Stationen der Stones-Historie führte. Die Mitglieder der Band konnten selbst noch ein Gefühl dafür entwickeln\, was Musik und Gesellschaft damals geprägt hat: Rhythm and Blues\, Revoluzzer und Hippies\, Aufbegehren gegen Konventionen. Ihren „Mick“ haben die Sticky Fingers nun seit fast vier Jahrzehnten in ihrem Frontmann Günther Grothaus. Und ihr „Keith“ Volker Hovestadt hat die Band damals mit gegründet. Heute zählen die Sticky Fingers für viele ihrer Fans zu den besten Rolling-Stones- Tribute-Bands Europas. \nIhre Versionen der aggressiven Rocknummern\, starken Balladen\, R&B-Titel der ersten Stunde\, psychedelischen Experimente und selbst die der Megahits orientieren sich überwiegend an bekannten und auch weniger bekannten Live-Fassungen der Stones-Titel. \nDie Tickets\, nur an der Abendkasse erhältlich\, gibt es für 23 Euro. Gerne kann man sich auf einer Reservierungsliste unter virginialisken@gmail.com anmelden. Es gilt freie Platzwahl. \n
URL:https://www.herzog-magazin.de/event/sticky-fingers-im-kuba/
LOCATION:Kulturbahnhof (KuBa) Jülich\, Bahnhofsstraße 13\, Jülich\, NRW\, 52428\, Deutschland
GEO:50.91828;6.36768
X-APPLE-STRUCTURED-LOCATION;VALUE=URI;X-ADDRESS=Kulturbahnhof (KuBa) Jülich Bahnhofsstraße 13 Jülich NRW 52428 Deutschland;X-APPLE-RADIUS=500;X-TITLE=Bahnhofsstraße 13:geo:6.36768,50.91828
CATEGORIES:Musik,Musik & Konzerte
ATTACH;FMTTYPE=image/jpeg:https://www.herzog-magazin.de/wp-content/uploads/2026/03/SF-G.-V.-KuBa-Jülich_Volker-Hovestadt.jpg
END:VEVENT
END:VCALENDAR