    BEGIN:VCALENDAR
VERSION:2.0
PRODID:-//HERZOG Kultur- &amp; Stadtmagazin - ECPv4.9.2//NONSGML v1.0//EN
CALSCALE:GREGORIAN
METHOD:PUBLISH
X-WR-CALNAME:HERZOG Kultur- &amp; Stadtmagazin
X-ORIGINAL-URL:https://www.herzog-magazin.de
X-WR-CALDESC:Veranstaltungen im HERZOG Kultur- &amp; Stadtmagazin
BEGIN:VEVENT
DTSTART;TZID=Europe/Berlin:20221127T120000
DTEND;TZID=Europe/Berlin:20221127T180000
DTSTAMP:20260423T104945
CREATED:20221123T180408Z
LAST-MODIFIED:20221123T180408Z
UID:94139-1669550400-1669572000@www.herzog-magazin.de
SUMMARY:Tag des Spiels auf Schloss Burgau
DESCRIPTION:Der Dürener Brett- und Gesellschaftsspieleverein Mister-X e. V. richtet am Sonntag\, 27. November\, von 12 bis 18 Uhr seinen alljährlichen „Tag des Spiels“ im Winkelsaal von Schloss Burgau aus. Es können neue Spiele und auch Klassiker ausgiebig ausgeliehen und getestet werden\, bei Bedarf gerne mit Erklärung.  \nZudem gibt es eine Tombola\, einen Bring&Buy-Flohmarkt und natürlich auch Snacks und Getränke. Der Autor des Kinderspiels des Jahres „Zauberberg“ sowie der Ornament Games Verlag aus der Region werden dabei sein.  \nDer Eintritt beträgt 2 Euro pro Person ab 15 Jahren. Weitere Informationen sind unter mister-x.de erhältlich. \n
URL:https://www.herzog-magazin.de/event/tag-des-spiels-auf-schloss-burgau/
LOCATION:Schloss Burgau\, Von-Aue-Straße 1\, Düren\, NRW\, 52355\, Deutschland
CATEGORIES:Festival & Markt,für Familien,Hobby
ATTACH;FMTTYPE=image/jpeg:https://www.herzog-magazin.de/wp-content/uploads/2022/11/Brettspiel_board-game-933165_1920-Foto-tookapic-pixabay.jpg
ORGANIZER;CN="D%C3%BCrener%20Brett-%20und%20Gesellschaftsspieleverein%20Mister-X":MAILTO:info.misterx@gmx.de
END:VEVENT
END:VCALENDAR