    BEGIN:VCALENDAR
VERSION:2.0
PRODID:-//HERZOG Kultur- &amp; Stadtmagazin - ECPv4.9.2//NONSGML v1.0//EN
CALSCALE:GREGORIAN
METHOD:PUBLISH
X-WR-CALNAME:HERZOG Kultur- &amp; Stadtmagazin
X-ORIGINAL-URL:https://www.herzog-magazin.de
X-WR-CALDESC:Veranstaltungen im HERZOG Kultur- &amp; Stadtmagazin
BEGIN:VEVENT
DTSTART;TZID=Europe/Berlin:20210811T101500
DTEND;TZID=Europe/Berlin:20210811T163000
DTSTAMP:20260422T232955
CREATED:20210804T104935Z
LAST-MODIFIED:20210804T105015Z
UID:63099-1628676900-1628699400@www.herzog-magazin.de
SUMMARY:Ausflug nach Aachen mit Backstubenführung
DESCRIPTION:Einen Tagesausflug nach Aachen inklusive Stadtbummel und Backstubenführung bei der Printenbäckerei Klein plant das Bildungsforum Düren-Eifel für Mittwoch\, 11. August. Treffpunkt ist um 10.15 Uhr in der Eingangshalle des Hauptbahnhofs Düren.  \nDie Aachener Schnittprinte gehört zu den wichtigsten Souvenirs für Touristen aus aller Welt und bildet so ein identitätsstiftendes Element der Öcher selbst. Im Rahmen der Tagesfahrt nach Aachen wird die Ausstellung „Nicht nur zur Weihnachtszeit – Aachen und die Printe“ im Centre Charlemagne (inklusive Führung) besucht. Zudem besteht Zeit für einen Stadtbummel in der Domstadt. Anschließend nehmen die Mitfahrenden an einer Backstubenführung der Printenbäckerei Klein teil. \nUm 16.30 Uhr sind die Teilnehmenden wieder zurück in Düren. Begleitet wird die Exkursion von Mehrgenerationenhaus-Koordinatorin Ute Bestgen-Perino und Bildungsforum-Dozent Klaus Vellguth.  \nDie Teilnahme ist kostenlos. Anmeldung über Buchungsnummer 21-M54006. Um Anmeldung im Kath. Bildungsforum Düren\, Telefon 02421 / 94680 oder per E-Mail info@bildungforum-dueren.de wird gebeten; weitere Infos unter www.bildungsforum-dueren.de. Rückfragen rund um das Exkursionsangebot beantworten Ute Bestgen-Perino (Tel. 02421-9468-25) und Klaus Vellguth (Tel. 02421-9468-18).  \n
URL:https://www.herzog-magazin.de/event/tagesausflug-nach-aachen-mit-backstubenfuehrung/
LOCATION:NRW\, Deutschland
CATEGORIES:Ausstellung,Brauchtum,Essen & Trinken,Exkursion,Geschichte,kulturelle Bildung,Präsenz-Veranstaltung,Vortrag
ATTACH;FMTTYPE=image/jpeg:https://www.herzog-magazin.de/wp-content/uploads/2021/08/HZG_Caritas.jpg
ORGANIZER;CN="Katholisches%20Forum%20f%C3%BCr%20Erwachsenen%20und%20Familienbildung":MAILTO:info@bildungsforum-dueren.de
END:VEVENT
END:VCALENDAR