    BEGIN:VCALENDAR
VERSION:2.0
PRODID:-//HERZOG Kultur- &amp; Stadtmagazin - ECPv4.9.2//NONSGML v1.0//EN
CALSCALE:GREGORIAN
METHOD:PUBLISH
X-WR-CALNAME:HERZOG Kultur- &amp; Stadtmagazin
X-ORIGINAL-URL:https://www.herzog-magazin.de
X-WR-CALDESC:Veranstaltungen im HERZOG Kultur- &amp; Stadtmagazin
BEGIN:VEVENT
DTSTART;TZID=Europe/Berlin:20180812T103000
DTEND;TZID=Europe/Berlin:20180812T000000
DTSTAMP:20260420T194622
CREATED:20180811T141946Z
LAST-MODIFIED:20180903T062728Z
UID:15092-1534069800-1534032000@www.herzog-magazin.de
SUMMARY:Taufgottesdienst der Freien Evangelischen Gemeinde
DESCRIPTION:Die sommerlichen Temperaturen haben das Wasser des Barmener Sees angenehm temperiert\, was den Täuflingen entgegenkommt. Sie bekennen mit der Taufe\, dass sie der Sünde gestorben und nun zum neuen Leben mit Jesus Christus erweckt sind.  \nZur Feier des Taufgottesdienstes an der Badestelle des Barmener Sees lädt die Freie evangelische Gemeinde am Sonntag\, den 12. August um 10:30 Uhr herzlich ein. Pastor Rüdiger Franz wird die Predigt halten und die Taufe durchführen. Nach dem Gottesdienst wird bei Fingerfood und Salat noch etwas weitergefeiert.  \nBänke und schattenspendende Pavillons werden zu diesem Anlass am Strand aufgebaut. Gerne können eigene Sitzgelegenheiten mitgebracht werden. Im Gemeindezentrum in der Margaretenstraße 2 findet an diesem Sonntag kein Gottesdienst statt. \nWer sich fragt\, wie Freie evangelischen Gemeinden die Taufe eigentlich genau verstehen\, kann unter diesem Link http://bit.ly/1GQS6wo nachlesen.\nAktuelle Infos zur Freien evangelische Gemeinde Jülich finden sich unter: http://juelich.feg.de \n
URL:https://www.herzog-magazin.de/event/taufgottesdienst-der-freien-evangelischen-gemeinde/
LOCATION:Barmener See\, Barmen\, NRW\, 52428\, Deutschland
GEO:50.9449031;6.303109
CATEGORIES:Sonstiges
ATTACH;FMTTYPE=image/jpeg:https://www.herzog-magazin.de/wp-content/uploads/2018/08/Kreuz-Kopie.jpg
END:VEVENT
END:VCALENDAR