    BEGIN:VCALENDAR
VERSION:2.0
PRODID:-//HERZOG Kultur- &amp; Stadtmagazin - ECPv4.9.2//NONSGML v1.0//EN
CALSCALE:GREGORIAN
METHOD:PUBLISH
X-WR-CALNAME:HERZOG Kultur- &amp; Stadtmagazin
X-ORIGINAL-URL:https://www.herzog-magazin.de
X-WR-CALDESC:Veranstaltungen im HERZOG Kultur- &amp; Stadtmagazin
BEGIN:VEVENT
DTSTART;VALUE=DATE:20220422
DTEND;VALUE=DATE:20220423
DTSTAMP:20260420T030327
CREATED:20220415T120800Z
LAST-MODIFIED:20220415T121329Z
UID:77780-1650585600-1650671999@www.herzog-magazin.de
SUMMARY:Tennis: LIMAS Grandprix Junior-Serie
DESCRIPTION:Das erste Turnier der LIMAS Grandprix Junior-Serie für Kinder und Jugendliche findet vom 22. bis zum 24. April auf der Anlage des Tennisclubs TC Grün-Weiß Hasselsweiler statt. Die Idee zu diesem erstmalig stattfindenden Tennis-Grandprix in den Altersklassen von U8 bis U18 ist bei engagierten Eltern entstanden. Vier Vereine haben sich bereits zu einer Kooperation zusammengefunden.  \nDie weiteren Turniere werden auf den Anlagen der Vereine TV 1885 Huchem-Stammeln (24.-26. Juni)\, TC Lövenich (15.-17. Juli) und TV Blau-Weiß Jülich (5.-7. August) ausgetragen. Wichtig ist den Initiatoren vor allem\, dass durch die neu geschaffene Turnierplattform ein attraktiver Impuls für Kinder und Jugendliche gesetzt wird. Gerade nach den ausgesprochen schwierigen Zeiten für den aktiven Vereinssport ist es wichtig\, wieder gemeinsame Spielmöglichkeiten zu bieten und somit den Spaß am Sport und der Bewegung zu fördern. \nMitmachen können sowohl Kinder und Jugendliche\, die bereits über Turniererfahrung verfügen\, als auch Turnier-Neulinge. Der Spaß am Tennissport und das Miteinander stehen im Vordergrund. Alle Teilnehmenden können pro Turnier Punkte für die Gesamtwertung des Grandprix  sammeln und am Ende wird ein Gesamtsieger pro Konkurrenz ermittelt. Dank vieler lokaler Unternehmen\, die die LIMAS Grandprix-Serie unterstützen\, winken attraktive Sachpreise für jede Teilnahme\, sowie für die Gesamtsieger. \nInformationen über die Turnierserie\, alle Termine und eine Möglichkeit zur Anmeldung  sind ab sofort unter www.limas-grandprix.de verfügbar. \n
URL:https://www.herzog-magazin.de/event/tennis-limas-grandprix-junior-serie/2022-04-22/
LOCATION:NRW\, Deutschland
CATEGORIES:für Jugendliche,für Kinder,Sport
ATTACH;FMTTYPE=image/jpeg:https://www.herzog-magazin.de/wp-content/uploads/2022/04/LIMAS-Grandprix-Junior-Serie-2022.jpg
END:VEVENT
END:VCALENDAR