    BEGIN:VCALENDAR
VERSION:2.0
PRODID:-//HERZOG Kultur- &amp; Stadtmagazin - ECPv4.9.2//NONSGML v1.0//EN
CALSCALE:GREGORIAN
METHOD:PUBLISH
X-WR-CALNAME:HERZOG Kultur- &amp; Stadtmagazin
X-ORIGINAL-URL:https://www.herzog-magazin.de
X-WR-CALDESC:Veranstaltungen im HERZOG Kultur- &amp; Stadtmagazin
BEGIN:VEVENT
DTSTART;TZID=Europe/Berlin:20251017T200000
DTEND;TZID=Europe/Berlin:20251017T200000
DTSTAMP:20260423T051233
CREATED:20250910T111116Z
LAST-MODIFIED:20250910T111116Z
UID:154029-1760731200-1760731200@www.herzog-magazin.de
SUMMARY:The Airlettes im KuBa
DESCRIPTION:Der Jazzclubs Jülich e.V. lädt zum Konzert mit „The Airlettes“ im Kulturbahnhof Jülich am Freitag\, 17. Oktober um 20 Uhr ein. Einlass ab 19.15 Uhr. Karten gibt es an der Abendkasse für 20 Euro/ 17 Euro ermäßigt. \nAuf unzähligen Konzerten\, Festivals und Events finden die drei swingenden Damen mit ihrer 3-köpfigen Band großen Anklang. Swing\, Pop und Rockabilly treffen auf Schauspiel\, Bewegung und viel Charme. \n
URL:https://www.herzog-magazin.de/event/the-airlettes-im-kuba/
LOCATION:Kulturbahnhof (KuBa) Jülich\, Bahnhofsstraße 13\, Jülich\, NRW\, 52428\, Deutschland
GEO:50.91828;6.36768
X-APPLE-STRUCTURED-LOCATION;VALUE=URI;X-ADDRESS=Kulturbahnhof (KuBa) Jülich Bahnhofsstraße 13 Jülich NRW 52428 Deutschland;X-APPLE-RADIUS=500;X-TITLE=Bahnhofsstraße 13:geo:6.36768,50.91828
CATEGORIES:Musik,Musik & Konzerte
ATTACH;FMTTYPE=image/jpeg:https://www.herzog-magazin.de/wp-content/uploads/2025/09/The-Airlettes_Swing-it_6_©-Sergey-Sanin_web.jpg
END:VEVENT
END:VCALENDAR