    BEGIN:VCALENDAR
VERSION:2.0
PRODID:-//HERZOG Kultur- &amp; Stadtmagazin - ECPv4.9.2//NONSGML v1.0//EN
CALSCALE:GREGORIAN
METHOD:PUBLISH
X-WR-CALNAME:HERZOG Kultur- &amp; Stadtmagazin
X-ORIGINAL-URL:https://www.herzog-magazin.de
X-WR-CALDESC:Veranstaltungen im HERZOG Kultur- &amp; Stadtmagazin
BEGIN:VEVENT
DTSTART;TZID=Europe/Berlin:20240408T200000
DTEND;TZID=Europe/Berlin:20240409T223000
DTSTAMP:20260423T210904
CREATED:20240319T133217Z
LAST-MODIFIED:20240319T133313Z
UID:124921-1712606400-1712701800@www.herzog-magazin.de
SUMMARY:The Zone of Interest
DESCRIPTION:Drama\, Historie | GB/ USA/ Polen 2023 | FSK: ab 12 | 105 Min. | 6.50 Euro / 6.00 Euro erm. | Regie: Jonathan Glazer | Darsteller: Sandra Hüller\, Christian Friedel\, Medusa Knopf\, Daniel Holzberg\, Sascha Maaz\, Max Beck\, Wolfgang Lampl\, Ralph Herforth \nOscarprämierter Film über den Holocaust\, der subtil Moral\, Schuld und Kriegsgreuel behandelt. \nTHE ZONE OF INTEREST wurde 2024 mit zwei Oscars® ausgezeichnet. Der Film\, der seit Monaten weltweit für Furore sorgt\, gewann in der Kategorie „Bester internationaler Film“. Tarn Willers and Johnnie Burn dürfen sich zudem über eine Auszeichnung in der Kategorie „Bester Ton“ freuen. \nRegisseur und Drehbuchautor Jonathan Glazer ließ sich für den Film von dem gleichnamigen Buch des verstorbenen Autoren Martin Amis \ninspirieren. Sein in deutscher Sprache gedrehter Film beleuchtet die Schrecken des Holocaust aus der Perspektive von Rudolf und Hedwig Höß\, dem Kommandanten von Auschwitz und seiner Familie\, die in ihrem Bilderbuchheim Mauer an Mauer mit dem Vernichtungslager ein äußerst privilegiertes Leben führen. \n
URL:https://www.herzog-magazin.de/event/the-zone-of-interest/2024-04-08/
LOCATION:Kulturbahnhof (KuBa) Jülich\, Bahnhofsstraße 13\, Jülich\, NRW\, 52428\, Deutschland
GEO:50.91828;6.36768
X-APPLE-STRUCTURED-LOCATION;VALUE=URI;X-ADDRESS=Kulturbahnhof (KuBa) Jülich Bahnhofsstraße 13 Jülich NRW 52428 Deutschland;X-APPLE-RADIUS=500;X-TITLE=Bahnhofsstraße 13:geo:6.36768,50.91828
CATEGORIES:Kino
ATTACH;FMTTYPE=image/jpeg:https://www.herzog-magazin.de/wp-content/uploads/2024/03/maxresdefault-2.jpg
ORGANIZER;CN="KuBa%20J%C3%BClich":MAILTO:info@kuba-juelich.de
END:VEVENT
END:VCALENDAR