    BEGIN:VCALENDAR
VERSION:2.0
PRODID:-//HERZOG Kultur- &amp; Stadtmagazin - ECPv4.9.2//NONSGML v1.0//EN
CALSCALE:GREGORIAN
METHOD:PUBLISH
X-WR-CALNAME:HERZOG Kultur- &amp; Stadtmagazin
X-ORIGINAL-URL:https://www.herzog-magazin.de
X-WR-CALDESC:Veranstaltungen im HERZOG Kultur- &amp; Stadtmagazin
BEGIN:VEVENT
DTSTART;TZID=Europe/Berlin:20251016T200000
DTEND;TZID=Europe/Berlin:20251016T200000
DTSTAMP:20260423T004809
CREATED:20250827T085907Z
LAST-MODIFIED:20250903T110728Z
UID:153141-1760644800-1760644800@www.herzog-magazin.de
SUMMARY:Theater „Happy End“ im KuBa
DESCRIPTION:Am Donnerstag\, 16. Oktober\, um 18 Uhr präsentiert das Rheinische Landestheater Neuss das Stück „Happy End (Keine Garantie)“ im Kulturbahnhof Jülich. \nHaben Sie sich auch schon gefragt\, was sich alles dringend ändern müsste? Und wie wichtig es wäre\, dass endlich etwas passiert – am besten sofort? Doch wie oft haben Sie tatsächlich versucht\, selbst aktiv etwas zu verändern? Nicht nur im Kleinen – früher aufstehen\, gesünder essen\, öfter lesen – sondern wirklich grundlegend? \nMit genau diesem Vorhaben stürmen drei Menschen die Bühne: Sie wollen die Bundesregierung erpressen – per Telefon. Doch wie stellt man so etwas eigentlich an? Was sind die konkreten Forderungen? Und – Moment mal – wie lautet eigentlich die Telefonnummer der Regierung? \nFelix Krakaus sympathisch-chaotischer Text malt weder das Bild einer düsteren Zukunft noch das einer perfekten Welt. Stattdessen begegnen uns drei Figuren\, die nicht mehr und nicht weniger versprechen als ein „Happy End – für alle!“ \nDer Rechtsweg ist selbstverständlich ausgeschlossen. \nTickets sind auf der Internetseite des Kulturbüros unter www.juelich.de/kulturbuero oder unter ztix.de/hp/events/28000/info erhältlich. \nVVK: 20\,00 € inkl. Gebühren | AK: 25\,00 € inkl. Gebühren. \n
URL:https://www.herzog-magazin.de/event/theater-happy-end-keine-garantie-im-kuba/
LOCATION:Kulturbahnhof (KuBa) Jülich\, Bahnhofsstraße 13\, Jülich\, NRW\, 52428\, Deutschland
GEO:50.91828;6.36768
X-APPLE-STRUCTURED-LOCATION;VALUE=URI;X-ADDRESS=Kulturbahnhof (KuBa) Jülich Bahnhofsstraße 13 Jülich NRW 52428 Deutschland;X-APPLE-RADIUS=500;X-TITLE=Bahnhofsstraße 13:geo:6.36768,50.91828
CATEGORIES:Theater
ATTACH;FMTTYPE=image/jpeg:https://www.herzog-magazin.de/wp-content/uploads/2025/08/Happy-End-Keine-Garantie-scaled.jpg
ORGANIZER;CN="Rheinische%20Landestheater%20Neuss":MAILTO:info@rlt-neuss.de
END:VEVENT
END:VCALENDAR