    BEGIN:VCALENDAR
VERSION:2.0
PRODID:-//HERZOG Kultur- &amp; Stadtmagazin - ECPv4.9.2//NONSGML v1.0//EN
CALSCALE:GREGORIAN
METHOD:PUBLISH
X-WR-CALNAME:HERZOG Kultur- &amp; Stadtmagazin
X-ORIGINAL-URL:https://www.herzog-magazin.de
X-WR-CALDESC:Veranstaltungen im HERZOG Kultur- &amp; Stadtmagazin
BEGIN:VEVENT
DTSTART;TZID=Europe/Berlin:20230129T180000
DTEND;TZID=Europe/Berlin:20230129T180000
DTSTAMP:20260425T114728
CREATED:20221230T181906Z
LAST-MODIFIED:20221230T181906Z
UID:95711-1675015200-1675015200@www.herzog-magazin.de
SUMMARY:Theater in Haus Overbach: „Der Besucher“
DESCRIPTION:Ein Traum von Freud? „Der Besucher“ von Eric-Emmanuel Schmitt wird am Sonntag\, 29. Januar\, „zu Gast“ in Haus Overbach sein. Das Quartett  Henning Achenbach\, Rebecca Dicke\, Frederik Hens und Bert Voiss probt derzeit für die Aufführung des Einakters in der Aula des Gymnasiums. \nDie Schauspiel-Truppe nimmt die Zuschauer mit in das Jahr 1938 nach Wien in die Zeit\, als der Einmarsch der Nazis in Österreich erst wenige Wochen zurückliegt und die Judenverfolgungen begonnen haben. Protagonisten sind Sigmund Freud und seine Tochter Anna\, die als Menschen jüdischen Glaubens zunehmend drangsaliert und bedroht werden. \nIn dieser Nacht erhält Freud einen sonderbaren Besuch: Ein geheimnisvoller Mann steigt durch das Fenster ein. Wer ist der Mann? Ein Verrückter? Ein Zauberer? Ein Traum? Freuds Unterbewusstsein? Oder ist er tatsächlich der\, der er vorgibt zu sein – das ist allerdings nicht vorstellbar. \nEs entsteht ein hitziger Schlagabtausch zwischen Freud und dem Unbekannten\, der Freuds bisherige Überzeugungen erschüttern und auf eine harte Probe stellen wird. Die Akteure in der Reihenfolge ihres Auftritts: Sigmund Freud – Henning Achenbach\, Anna – Rebecca Dicke\, Nazi – Frederik Hens\, Unbekannter – Bert Voiss. \nPremiere feiert das Stück am 24. Januar schulintern für die Oberstufenschüler des Gymnasiums Haus Overbach. Die öffentliche Aufführung des 70-minütigen Einakters findet am folgenden Sonntag statt. \nBeginn ist um 18 Uhr; Einlass wird ab 17.30 Uhr gewährt. Karten sind im Vorverkauf zu 5 Euro für Erwachsene\, 3\,50 Euro ermäßigt im Sekretariat des Gymnasiums Haus Overbach und an der Abendkasse erhältlich. Reservierungen sind unter b.juelich@gmx.eu möglich. \n
URL:https://www.herzog-magazin.de/event/theater-in-haus-overbach-der-besucher/
LOCATION:Gymnasium Haus Overbach\, Franz-von-Sales Weg 1\, Jülich\, NRW\, 52428\, Deutschland
GEO:50.9418606;6.305797
X-APPLE-STRUCTURED-LOCATION;VALUE=URI;X-ADDRESS=Gymnasium Haus Overbach Franz-von-Sales Weg 1 Jülich NRW 52428 Deutschland;X-APPLE-RADIUS=500;X-TITLE=Franz-von-Sales Weg 1:geo:6.305797,50.9418606
CATEGORIES:Theater
ATTACH;FMTTYPE=image/jpeg:https://www.herzog-magazin.de/wp-content/uploads/2022/12/Gymnasium-Haus-Overbach-2000.jpg
ORGANIZER;CN="Gymnasium%20Haus%20Overbach":MAILTO:mail@gymnasium-overbach.de
END:VEVENT
END:VCALENDAR