    BEGIN:VCALENDAR
VERSION:2.0
PRODID:-//HERZOG Kultur- &amp; Stadtmagazin - ECPv4.9.2//NONSGML v1.0//EN
CALSCALE:GREGORIAN
METHOD:PUBLISH
X-WR-CALNAME:HERZOG Kultur- &amp; Stadtmagazin
X-ORIGINAL-URL:https://www.herzog-magazin.de
X-WR-CALDESC:Veranstaltungen im HERZOG Kultur- &amp; Stadtmagazin
BEGIN:VEVENT
DTSTART;TZID=Europe/Berlin:20190925T200000
DTEND;TZID=Europe/Berlin:20190925T200000
DTSTAMP:20260422T163509
CREATED:20190814T112836Z
LAST-MODIFIED:20190814T114409Z
UID:27439-1569441600-1569441600@www.herzog-magazin.de
SUMMARY:Wenn du mich verlässt\, komm ich mit
DESCRIPTION:Tina Teubner\, begnadete Komikerin\, überirdische Musikerin\, Kernkompetenz auf dem Gebiet des autoritären Liebesliedes\, hat die Erziehung ihres Mannes erfolgreich abgeschlossen und sucht nach neuen Herausforderungen. Am Mittwoch\, 25. September\, um 20 Uhr lässt Tina Teubner im Jülicher Kulturbahnhof die Bühne brennen. \nDie Grenzen zwischen „privat“ und „politisch“ sind nicht mehr aufrecht zu erhalten. Die Welt brennt: Tina wagt den Blick ins Innerste. Mit ihrer rasiermesserscharfen Intelligenz\, ihrem unwiderstehlichen Humor und ihrer weltumfassenden Herzenswärme scheucht sie ihr Publikum auf: nicht kratzen. Waschen.  \nTolstoi schreibt: „Alle wollen die Welt verändern\, niemand sich selbst.“ Wie wäre es mit folgendem Geschäftsmodell: Tina verändert die Welt\, Ben muss an sich arbeiten\, und das Publikum darf dabei zugucken. „Tina Teubner war\, ist und bleibt die aufregendste\, nachhaltigste und unterhaltsamste Frau der deutschen Kleinkunstszene.“ (HSA) Zwei Stunden Tina Teubner sind so schön wie die erste Liebe und so wirksam wie zwei Jahre Couch. \n
URL:https://www.herzog-magazin.de/event/tina-teubner-wenn-du-mich-verlaesst-komm-ich-mit/
LOCATION:Kulturbahnhof (KuBa) Jülich\, Bahnhofsstraße 13\, Jülich\, NRW\, 52428\, Deutschland
GEO:50.91828;6.36768
X-APPLE-STRUCTURED-LOCATION;VALUE=URI;X-ADDRESS=Kulturbahnhof (KuBa) Jülich Bahnhofsstraße 13 Jülich NRW 52428 Deutschland;X-APPLE-RADIUS=500;X-TITLE=Bahnhofsstraße 13:geo:6.36768,50.91828
CATEGORIES:Kabarett & Comedy
ATTACH;FMTTYPE=image/jpeg:https://www.herzog-magazin.de/wp-content/uploads/2019/08/Tina-Teubner-Netz.jpg
ORGANIZER;CN="Kulturb%C3%BCro%20J%C3%BClich":MAILTO:Nklingebiel@juelich.de
END:VEVENT
END:VCALENDAR