    BEGIN:VCALENDAR
VERSION:2.0
PRODID:-//HERZOG Kultur- &amp; Stadtmagazin - ECPv4.9.2//NONSGML v1.0//EN
CALSCALE:GREGORIAN
METHOD:PUBLISH
X-WR-CALNAME:HERZOG Kultur- &amp; Stadtmagazin
X-ORIGINAL-URL:https://www.herzog-magazin.de
X-WR-CALDESC:Veranstaltungen im HERZOG Kultur- &amp; Stadtmagazin
BEGIN:VEVENT
DTSTART;TZID=Europe/Berlin:20220405T180000
DTEND;TZID=Europe/Berlin:20220405T180000
DTSTAMP:20260424T020714
CREATED:20220318T142842Z
LAST-MODIFIED:20220318T142842Z
UID:76268-1649181600-1649181600@www.herzog-magazin.de
SUMMARY:Treffen der Mundartfreunde
DESCRIPTION:Nach einer notgedrungenen Corona-Pause wollen die Jülicher Mundartfreunde wieder mit ihren monatlichen Treffen loslegen. Der erste Treff nach der „Zwangspause“ ist für Dienstag\, 5. April\, um 18 Uhr in der Christinastube im Roncallihaus in der Stiftsherrenstraße angesetzt. Die Mundartfreunde sind heiß wieder mit ihrer beliebten Mundart starten zu können und hoffen\, daß alle Mundartler gesund geblieben sind. \nInteressierte sind gerne willkommen. \n
URL:https://www.herzog-magazin.de/event/treffen-der-mundartfreunde/
LOCATION:Christinastube im Hof des Roncallihauses\, Stiftsherrenstr. 19\, Jülich\, NRW\, 52428\, Deutschland
CATEGORIES:Brauchtum,kulturelle Bildung
ATTACH;FMTTYPE=image/jpeg:https://www.herzog-magazin.de/wp-content/uploads/2022/03/Mundart.jpg
END:VEVENT
END:VCALENDAR