    BEGIN:VCALENDAR
VERSION:2.0
PRODID:-//HERZOG Kultur- &amp; Stadtmagazin - ECPv4.9.2//NONSGML v1.0//EN
CALSCALE:GREGORIAN
METHOD:PUBLISH
X-WR-CALNAME:HERZOG Kultur- &amp; Stadtmagazin
X-ORIGINAL-URL:https://www.herzog-magazin.de
X-WR-CALDESC:Veranstaltungen im HERZOG Kultur- &amp; Stadtmagazin
BEGIN:VEVENT
DTSTART;TZID=Europe/Berlin:20241105T193000
DTEND;TZID=Europe/Berlin:20241105T220000
DTSTAMP:20260421T145454
CREATED:20241028T100316Z
LAST-MODIFIED:20241104T092822Z
UID:134905-1730835000-1730844000@www.herzog-magazin.de
SUMMARY:Treffen des Jülicher Freifunks
DESCRIPTION:Am Dienstag\, 05. November findet im Vereinshaus des Kleingartenvereins Nordpolder (Linnicher Straße\, Jülich) das nächste Treffen des Jülicher Freifunks statt. Wer sich für freies Internet interessiert\, ist herzlich um 19.00 Ihr eingeladen! Aktuell stellen in Jülich über 40 Privatpersonen und Organisationen freies Internet zur Verfügung. \nWeitere Informationen: https://freifunk-aachen.de/ \n
URL:https://www.herzog-magazin.de/event/treffen-des-juelicher-freifunks/
LOCATION:Kleingartenverein Jülich e.V. „Nordpolder“\, Am Schulzentrum Linnicher Straße\, Jülich\, NRW\, 52428\, Deutschland
CATEGORIES:Informationsveranstaltung,Technik
ATTACH;FMTTYPE=image/jpeg:https://www.herzog-magazin.de/wp-content/uploads/2024/10/Freifunk.jpg
ORGANIZER;CN="Freifunk%20J%C3%BClich%20e.V.":MAILTO:kontakt@Freifunk-Juelich.de
END:VEVENT
END:VCALENDAR