    BEGIN:VCALENDAR
VERSION:2.0
PRODID:-//HERZOG Kultur- &amp; Stadtmagazin - ECPv4.9.2//NONSGML v1.0//EN
CALSCALE:GREGORIAN
METHOD:PUBLISH
X-WR-CALNAME:HERZOG Kultur- &amp; Stadtmagazin
X-ORIGINAL-URL:https://www.herzog-magazin.de
X-WR-CALDESC:Veranstaltungen im HERZOG Kultur- &amp; Stadtmagazin
BEGIN:VEVENT
DTSTART;TZID=Europe/Berlin:20230429T110000
DTEND;TZID=Europe/Berlin:20230429T130000
DTSTAMP:20260420T091551
CREATED:20230321T101145Z
LAST-MODIFIED:20250522T075943Z
UID:102792-1682766000-1682773200@www.herzog-magazin.de
SUMMARY:Frauenfrühstück im SPD Büro Jülich
DESCRIPTION:Dier Arbeitsgemeinschaft sozialdemokratischer Frauen Kreisverband Düren / Jülich lädt am letzten Samstag im Monat von 11 bis 13 Uhr ins Jülicher SPD Büro\, Turmstraße 5\, zum „Frühstück für Frauen“ recht herzlich ein. Die Arbeitsgemeinschaft sozialdemokratischer Frauen bietet politisch interessierten Frauen die Möglichkeit\, sich über aktuelle Themen zu informieren\, zu diskutieren und Interessen auszutauschen. \n
URL:https://www.herzog-magazin.de/event/treffen-im-spd-buero-juelich/2023-04-29/
LOCATION:SPD Büro Jülich\, Turmstraße 5\, Jülich\, NRW\, 52428\, Deutschland
CATEGORIES:Politik
ATTACH;FMTTYPE=image/jpeg:https://www.herzog-magazin.de/wp-content/uploads/2023/03/SPD-Juelich-Logo-Netz.jpg
END:VEVENT
END:VCALENDAR