    BEGIN:VCALENDAR
VERSION:2.0
PRODID:-//HERZOG Kultur- &amp; Stadtmagazin - ECPv4.9.2//NONSGML v1.0//EN
CALSCALE:GREGORIAN
METHOD:PUBLISH
X-WR-CALNAME:HERZOG Kultur- &amp; Stadtmagazin
X-ORIGINAL-URL:https://www.herzog-magazin.de
X-WR-CALDESC:Veranstaltungen im HERZOG Kultur- &amp; Stadtmagazin
BEGIN:VEVENT
DTSTART;TZID=Europe/Berlin:20181106T070000
DTEND;TZID=Europe/Berlin:20181106T160000
DTSTAMP:20260424T204844
CREATED:20181106T122028Z
LAST-MODIFIED:20181106T122028Z
UID:17566-1541487600-1541520000@www.herzog-magazin.de
SUMMARY:Treffpunkt Leserabe
DESCRIPTION:Der nächste „Treffpunkt Leserabe“ für Kinder von 4 bis 8 Jahren findet am 14. November um 15.30 Uhr statt. Gelesen wird das Buch „Viele Grüße\, Deine Giraffe“ von Megumi Iwasa und Jörg Mühle. \n
URL:https://www.herzog-magazin.de/event/treffpunkt-leserabe/
LOCATION:Stadtbücherei Jülich\, Kleine Rurstraße 42\, Jülich\, NRW\, 52428\, Deutschland
GEO:50.9209335;6.3559376
X-APPLE-STRUCTURED-LOCATION;VALUE=URI;X-ADDRESS=Stadtbücherei Jülich Kleine Rurstraße 42 Jülich NRW 52428 Deutschland;X-APPLE-RADIUS=500;X-TITLE=Kleine Rurstraße 42:geo:6.3559376,50.9209335
CATEGORIES:für Kinder,Literatur
ATTACH;FMTTYPE=image/jpeg:https://www.herzog-magazin.de/wp-content/uploads/2018/11/Lesen-14.11.2018.jpg
ORGANIZER;CN="Stadtb%C3%BCcherei%20J%C3%BClich":MAILTO:stadtbuecherei@juelich.de
END:VEVENT
END:VCALENDAR