    BEGIN:VCALENDAR
VERSION:2.0
PRODID:-//HERZOG Kultur- &amp; Stadtmagazin - ECPv4.9.2//NONSGML v1.0//EN
CALSCALE:GREGORIAN
METHOD:PUBLISH
X-WR-CALNAME:HERZOG Kultur- &amp; Stadtmagazin
X-ORIGINAL-URL:https://www.herzog-magazin.de
X-WR-CALDESC:Veranstaltungen im HERZOG Kultur- &amp; Stadtmagazin
BEGIN:VEVENT
DTSTART;TZID=Europe/Berlin:20231017T190000
DTEND;TZID=Europe/Berlin:20231017T190000
DTSTAMP:20260423T002756
CREATED:20230912T085344Z
LAST-MODIFIED:20230912T085452Z
UID:114123-1697569200-1697569200@www.herzog-magazin.de
SUMMARY:Umsiedlung von Steinstraß
DESCRIPTION:Wurzeln nachspüren: Steinstraß gehörte als Lich-Steinstraß zum Gemeindegebiet von Niederzier. Durch den Braunkohletagebau Hambach wurde der Ort in den 1980er Jahren nach Jülich umgesiedelt.  \nDer Geschichtsverein in der Gemeinde Niederzier hat sich für Dienstag\, 17. Oktober\, Dirk Emunds aus Lich-Steinstrass eingeladen\, um über die Umsiedlungsgeschichte zu referieren. Beginn des Vortrages in Niederzier\, Breite Straße 20\, ist um 19 Uhr. Gäste sind willkommen. \n
URL:https://www.herzog-magazin.de/event/umsiedlung-von-lich-streinstrass/
LOCATION:Allgemeiner Ort\, NRW\, Deutschland
CATEGORIES:Geschichte,Vortrag
ATTACH;FMTTYPE=image/jpeg:https://www.herzog-magazin.de/wp-content/uploads/2023/09/Steinstrass_Hauptstr_87_Kiven_ILR_01.jpg
ORGANIZER;CN="Geschichtsverein%20in%20der%20Gemeinde%20Niederzier%20e.V%3A":MAILTO:info@geschichtsverein-in-der-gemeinde-niederzier.de﻿
END:VEVENT
END:VCALENDAR