    BEGIN:VCALENDAR
VERSION:2.0
PRODID:-//HERZOG Kultur- &amp; Stadtmagazin - ECPv4.9.2//NONSGML v1.0//EN
CALSCALE:GREGORIAN
METHOD:PUBLISH
X-WR-CALNAME:HERZOG Kultur- &amp; Stadtmagazin
X-ORIGINAL-URL:https://www.herzog-magazin.de
X-WR-CALDESC:Veranstaltungen im HERZOG Kultur- &amp; Stadtmagazin
BEGIN:VEVENT
DTSTART;TZID=Europe/Berlin:20190926T180000
DTEND;TZID=Europe/Berlin:20190926T210000
DTSTAMP:20260422T103904
CREATED:20190922T120259Z
LAST-MODIFIED:20190922T120259Z
UID:29488-1569520800-1569531600@www.herzog-magazin.de
SUMMARY:Unternehmertreff am Indemann
DESCRIPTION:„Menschen in Unternehmen“ lautet das Thema des nächsten „Unternehmertreffs am Indemann“. Dazu lädt die Wirtschaftsförderung Kreis Düren am Donnerstag\, 26. September\, von 18:00 bis 21:00 Uhr in das Restaurant Zum Indemann 1 in Inden ein. Dort haben Unternehmer und Gründungsinteressierte Gelegenheit zum Gedanken- und Informationsaustausch zu wirtschaftsnahen Themen. \nDiesmal stehen Work-Life-Balance\, Fachkräftemangel\, Arbeitgeberattraktivität und Personalmanagement im Mittelpunkt. In einer globalisierten Welt\, die unter anderem geprägt ist durch einen steigenden Wettbewerbsdruck\, tragen die Leistungsbereitschaft und die Innovationskraft der Menschen im Unternehmen entscheidend dazu bei\, die Marktposition eines Unternehmens zu sichern. Die Grundlage des Unternehmenserfolges sind das Wissen\, die Kreativität\, die soziale Kompetenz und das hohe Engagement der Mitarbeiter. Unter der Überschrift „Der Mensch – Ressource Humankapital oder größtes Potenzial?“ beleuchten Personal- und Unternehmensexperten im Rahmen eines moderierten Podiums die Facetten des Themas „Ressource Mensch“. Sie berichten über zeitgemäße Ideen und aktuelle Projekte und setzen sich mit der so genannten „Arbeitswelt 4.0“ auseinander\, die Menschen und Unternehmen vor gravierende Herausforderungen stellt. \nBei dem kostenfreien Veranstaltungsformat Unternehmertreff soll der Austausch zwischen den Referenten und den Unternehmern nicht zu kurz kommen\, deshalb wird nach dem etwa  einstündigen Podiumsgespräch das Netzwerken in lockerer Atmosphäre großgeschrieben. Interessierte Unternehmer und Gründer können sich beim Amt für Kreisentwicklung und Wirtschaftsförderung des Kreises Düren unter der Rufnummer 02421 / 22 1061 005 oder per E-Mail an a.rensinghof@kreis-dueren.de anmelden. \n
URL:https://www.herzog-magazin.de/event/unternehmertreff-am-indemann/
LOCATION:Restaurant am Indemann\, Indemann 1\, Inden\, NRW\, 52459
CATEGORIES:Informationsveranstaltung,Versammlungen,Vortrag,Wirtschaft,Workshop
ATTACH;FMTTYPE=image/jpeg:https://www.herzog-magazin.de/wp-content/uploads/2018/04/minecraft-1858296.jpg
ORGANIZER;CN="Kreis%20D%C3%BCren":MAILTO:mail@kreis-dueren.de
END:VEVENT
END:VCALENDAR