    BEGIN:VCALENDAR
VERSION:2.0
PRODID:-//HERZOG Kultur- &amp; Stadtmagazin - ECPv4.9.2//NONSGML v1.0//EN
CALSCALE:GREGORIAN
METHOD:PUBLISH
X-WR-CALNAME:HERZOG Kultur- &amp; Stadtmagazin
X-ORIGINAL-URL:https://www.herzog-magazin.de
X-WR-CALDESC:Veranstaltungen im HERZOG Kultur- &amp; Stadtmagazin
BEGIN:VEVENT
DTSTART;TZID=Europe/Berlin:20250304T140000
DTEND;TZID=Europe/Berlin:20250304T140000
DTSTAMP:20260422T060422
CREATED:20250207T114322Z
LAST-MODIFIED:20250207T114322Z
UID:141347-1741096800-1741096800@www.herzog-magazin.de
SUMMARY:Veilchendienstag in Kirchberg
DESCRIPTION:In Kirchberg startet der Umzug am Veilchendienstag um 14 Uhr am Parkplatz der Kirche. Der Zugweg führt im Oberdorf über die obere Fronhonfstraße\, Kastanienstraße\, Fronhofstraße zur Wymarstraße. Weiter geht es über die Straßen Zur Rur\, Niederfeld und Zur Inde im Unterdorf\, anschließend geht es über den Mühlendriesch\, Bergstraße und Am Wiesenhang den Schindberg hoch. Die After-Zoch Party gleich danach startet im Jugendheim\, Am Schrickenhof. \n
URL:https://www.herzog-magazin.de/event/veilchendienstag-in-kirchberg/
LOCATION:St. Martinus Kirchberg\, Martinusweg\, Jülich-Kirchberg\, NRW\, 52428\, Deutschland
CATEGORIES:Brauchtum,Party
ATTACH;FMTTYPE=image/jpeg:https://www.herzog-magazin.de/wp-content/uploads/2023/01/Karnevalgarland-Foto-Peggychoucair-pixabay-1.jpg
ORGANIZER;CN="Dorfgemeinschaft%20Zukunft%20Kirchberg":MAILTO:info@juelich-kirchberg.de
END:VEVENT
END:VCALENDAR