    BEGIN:VCALENDAR
VERSION:2.0
PRODID:-//HERZOG Kultur- &amp; Stadtmagazin - ECPv4.9.2//NONSGML v1.0//EN
CALSCALE:GREGORIAN
METHOD:PUBLISH
X-WR-CALNAME:HERZOG Kultur- &amp; Stadtmagazin
X-ORIGINAL-URL:https://www.herzog-magazin.de
X-WR-CALDESC:Veranstaltungen im HERZOG Kultur- &amp; Stadtmagazin
BEGIN:VEVENT
DTSTART;TZID=Europe/Berlin:20200820T190000
DTEND;TZID=Europe/Berlin:20200820T203000
DTSTAMP:20260421T081320
CREATED:20200806T104137Z
LAST-MODIFIED:20200807T140340Z
UID:42427-1597950000-1597955400@www.herzog-magazin.de
SUMMARY:Veranstaltung „Herausforderung Demenz“
DESCRIPTION:Die Fachstelle Demenz und Hospiz des Caritasverbandes für die Region Düren-Jülich e.V. fährt donnerstags mit ihren Veranstaltungsreihe im Nordkreis fort. „Herausforderung Demenz – Aktuelles aus Forschung und Medizin“ ist der Titel am Donnerstag\, 20. August\, von 19 bis 20.30 Uhr in der Caritas-Tagespflege St. Georg\, Artilleriestraße 66. \nDas Thema Demenz erfährt in der Öffentlichkeit große mediale Aufmerksamkeit. Immer wieder hört und liest man von Durchbrüchen in der Erforschung und Therapie der Erkrankung. Dr. Klaus Maria Perrar\, Oberarzt an der Uniklinik Köln und 1. Vorsitzender der Alzheimer Gesellschaft des Kreis Düren e.V.\, gibt einen Überblick zum Stand in der Diagnostik und medizinischen Therapie. \nAnmeldungen werden bei der Fachstelle Demenz und Hospiz\, Tel. 02421 / 967614\, entgegengenommen. Die Teilnahme ist kostenlos. Weitere Informationen sind unter www.caritasverband-dueren.de/angebote-beratung/senioren/demenzberatung/demenzberatung zu finden. \n
URL:https://www.herzog-magazin.de/event/veranstaltung-herausforderung-demenz/
LOCATION:Caritas-Tagespflege St. Georg\, Artilleriestraße 66\, Jülich\, NRW\, 52428\, Deutschland
CATEGORIES:Informationsveranstaltung,Medizin
ATTACH;FMTTYPE=image/jpeg:https://www.herzog-magazin.de/wp-content/uploads/2020/08/HZG_Caritas.jpg
END:VEVENT
END:VCALENDAR