    BEGIN:VCALENDAR
VERSION:2.0
PRODID:-//HERZOG Kultur- &amp; Stadtmagazin - ECPv4.9.2//NONSGML v1.0//EN
CALSCALE:GREGORIAN
METHOD:PUBLISH
X-WR-CALNAME:HERZOG Kultur- &amp; Stadtmagazin
X-ORIGINAL-URL:https://www.herzog-magazin.de
X-WR-CALDESC:Veranstaltungen im HERZOG Kultur- &amp; Stadtmagazin
BEGIN:VEVENT
DTSTART;TZID=Europe/Berlin:20230919T190000
DTEND;TZID=Europe/Berlin:20230919T203000
DTSTAMP:20260422T074815
CREATED:20230728T122318Z
LAST-MODIFIED:20230728T122318Z
UID:111542-1695150000-1695155400@www.herzog-magazin.de
SUMMARY:VHS-Vortrag „Musik als Waffe“
DESCRIPTION:Musik als Waffe: das politische Lied während der Weimarer Republik und der NS-Zeit. Wie hörte sich eine Schalmeien-Kapelle des Roten-Front-Kämpferbundes an? Wie klangen NS-Kopien sozialistischer Arbeiterlieder? Was war ein typisches „Durchhalte-Lied“ während des Krieges? \nEin heute kaum noch bekanntes\, aber hoch interessantes Thema wird anhand von zahlreichen Tonbeispielen im Rahmen eines Vortrages dargestellt: die Entwicklung des „Kampfliedes“ und politisch motivierter Musik in der Weimarer Republik und während des Dritten Reiches. Mit der Schallplatte als einem der ersten modernen Massenmedien haben sich teils einzigartige historische Dokumente erhalten. \nMit Hilfe von Originaltonträgern aus der Zeit vor 1945 veranschaulicht Michael M. Lang am Dienstag\, 19. September\, bei der VHS Jülicher Land im Forum Am Aachener Tor 16 dieses Kapitel der Geschichte und macht dieses durch den unmittelbaren Eindruck der Musik hörbar und erlebbar. Die dort „eingefrorene“ Musik jener Epoche zeigt sehr eindrücklich ihre emotionale Wirkung auf den Hörer und den Gebrauch der Kunst als Kampfmittel in der täglichen politischen Agitation. \nDer Vortrag geht von 19 bis 20.30 Uhr. Anmeldungen werden mit Angabe der Kursnummer M02-004 unter Tel. 02461 / 63201 entgegen genommen. \n
URL:https://www.herzog-magazin.de/event/vhs-vortrag-musik-als-waffe/
LOCATION:VHS Jülicher Land\, Am Aachener Tor 16\, Jülich\, 52428\, Deutschland
GEO:50.91939;6.35664
X-APPLE-STRUCTURED-LOCATION;VALUE=URI;X-ADDRESS=VHS Jülicher Land Am Aachener Tor 16 Jülich 52428 Deutschland;X-APPLE-RADIUS=500;X-TITLE=Am Aachener Tor 16:geo:6.35664,50.91939
CATEGORIES:Musik,Vortrag
ATTACH;FMTTYPE=image/jpeg:https://www.herzog-magazin.de/wp-content/uploads/2023/07/Grammophon_Foto_Michael_M_Lang.jpg
ORGANIZER;CN="Stadt%20J%C3%BClich":MAILTO:info@juelich.de
END:VEVENT
END:VCALENDAR