    BEGIN:VCALENDAR
VERSION:2.0
PRODID:-//HERZOG Kultur- &amp; Stadtmagazin - ECPv4.9.2//NONSGML v1.0//EN
CALSCALE:GREGORIAN
METHOD:PUBLISH
X-WR-CALNAME:HERZOG Kultur- &amp; Stadtmagazin
X-ORIGINAL-URL:https://www.herzog-magazin.de
X-WR-CALDESC:Veranstaltungen im HERZOG Kultur- &amp; Stadtmagazin
BEGIN:VEVENT
DTSTART;TZID=Europe/Berlin:20220815T200000
DTEND;TZID=Europe/Berlin:20220815T220000
DTSTAMP:20260420T174336
CREATED:20220719T143010Z
LAST-MODIFIED:20220719T143137Z
UID:85096-1660593600-1660600800@www.herzog-magazin.de
SUMMARY:Vier Wände für Zwei
DESCRIPTION:Komödie | Spanien  2022 | FSK: ab 6 | 94 Min. | 6.50 Euro / 6.00 Euro erm. | Regie: Bernabé Rico | Darsteller: Juana Acosta\, Kiti Mánver\, Carlos Areces\, José Sacristán \nSara\, erfolgreiche Managerin\, lebt in Sevilla und ist seit acht Jahren mit Daniel verheiratet. Nicht mehr an die Zukunft ihrer Ehe glaubend\, macht sie sich hinter dem Rücken ihres Mannes auf die Suche nach ihren eigenen vier Wänden. Zusammen mit dem unerfahrenen Immobilienmakler Óscar besichtigt sie eine wunderschöne Wohnung\, die abgesehen von den scheußlichen Tapeten zwar absolut perfekt wäre\, jedoch einen entscheidenden Haken hat: Sara kann erst einziehen\, wenn die derzeitige Eigentümerin Lola verstorben ist. Sara trifft sich mit Lola\, die sich als wortgewandte\, kettenrauchende und freigeistige Überlebende eines dreifachen Bypasses herausstellt. Eine Naturgewalt\, deren Lebensfreude und Leidenschaft mit Saras eher konservativer Einstellung kollidiert. Als Sara entdeckt\, dass ihr Mann sie betrügt\, sucht sie Trost und Rat bei Lola\, der ähnliches widerfuhr. Die beiden Frauen\, die so unterschiedlich sind und doch in ihrer Einsamkeit vereint\, schließen eine ungewöhnliche Freundschaft. Eine Freundschaft\, die von Zuneigung\, Gefühlen und viel Humor geprägt ist und am Ende über den Pakt\, den sie mit dem Wohnungskauf beschlossen haben\, hinauswächst. \nGute Freunde erkennt man leichter\, wenn das Leben schwerer wird. \n
URL:https://www.herzog-magazin.de/event/vier-waende-fuer-zwei/2022-08-15/
LOCATION:Kulturbahnhof (KuBa) Jülich\, Bahnhofsstraße 13\, Jülich\, NRW\, 52428\, Deutschland
GEO:50.91828;6.36768
X-APPLE-STRUCTURED-LOCATION;VALUE=URI;X-ADDRESS=Kulturbahnhof (KuBa) Jülich Bahnhofsstraße 13 Jülich NRW 52428 Deutschland;X-APPLE-RADIUS=500;X-TITLE=Bahnhofsstraße 13:geo:6.36768,50.91828
CATEGORIES:Kino
ATTACH;FMTTYPE=image/jpeg:https://www.herzog-magazin.de/wp-content/uploads/2022/07/maxresdefault-4.jpg
ORGANIZER;CN="KuBa%20J%C3%BClich":MAILTO:info@kuba-juelich.de
END:VEVENT
END:VCALENDAR