    BEGIN:VCALENDAR
VERSION:2.0
PRODID:-//HERZOG Kultur- &amp; Stadtmagazin - ECPv4.9.2//NONSGML v1.0//EN
CALSCALE:GREGORIAN
METHOD:PUBLISH
X-WR-CALNAME:HERZOG Kultur- &amp; Stadtmagazin
X-ORIGINAL-URL:https://www.herzog-magazin.de
X-WR-CALDESC:Veranstaltungen im HERZOG Kultur- &amp; Stadtmagazin
BEGIN:VEVENT
DTSTART;VALUE=DATE:20180915
DTEND;VALUE=DATE:20180916
DTSTAMP:20260421T004152
CREATED:20180813T081848Z
LAST-MODIFIED:20180813T081848Z
UID:15120-1536969600-1537055999@www.herzog-magazin.de
SUMMARY:VIERSTÄDTE-Tennisturnier
DESCRIPTION:
URL:https://www.herzog-magazin.de/event/vierstaedte-tennisturnier/
LOCATION:TV Grün-Weiß Welldorf Güsten\, Sandweg 19\, Jülich\, 52428
GEO:50.9561629;6.4281404
X-APPLE-STRUCTURED-LOCATION;VALUE=URI;X-ADDRESS=TV Grün-Weiß Welldorf Güsten Sandweg 19 Jülich 52428;X-APPLE-RADIUS=500;X-TITLE=Sandweg 19:geo:6.4281404,50.9561629
CATEGORIES:Sport
ATTACH;FMTTYPE=image/jpeg:https://www.herzog-magazin.de/wp-content/uploads/2030/04/ferientennis-2819296.jpg
END:VEVENT
END:VCALENDAR