    BEGIN:VCALENDAR
VERSION:2.0
PRODID:-//HERZOG Kultur- &amp; Stadtmagazin - ECPv4.9.2//NONSGML v1.0//EN
CALSCALE:GREGORIAN
METHOD:PUBLISH
X-WR-CALNAME:HERZOG Kultur- &amp; Stadtmagazin
X-ORIGINAL-URL:https://www.herzog-magazin.de
X-WR-CALDESC:Veranstaltungen im HERZOG Kultur- &amp; Stadtmagazin
BEGIN:VEVENT
DTSTART;TZID=Europe/Berlin:20250816T144500
DTEND;TZID=Europe/Berlin:20250816T164500
DTSTAMP:20260423T141928
CREATED:20250804T114809Z
LAST-MODIFIED:20250813T072712Z
UID:152387-1755355500-1755362700@www.herzog-magazin.de
SUMMARY:Vogelstimmen erkennen
DESCRIPTION:Was wäre ein Spaziergang durch Wald und Feld ohne Vogelgesang?\nOft macht das herrliche Vogelkonzert das Naturerlebnis erst so richtig komplett. Wer einmal darauf achtet\, wird feststellen\, dass selbst mitten in der Stadt eine Vielzahl an Vogelstimmen zu hören ist. Doch welche Stimme gehört zu welchem Vogel? Wo und wie leben die Tiere? \nIn dieser Exkursion möchten die Grünen aus Jülich\, Inden und Langerwehe den Teilnehmenden Vögel näherbringen und dazu anleiten\, einige davon selbst an der Stimme zu erkennen. Geleitet wird die Exkursion vom Hobbyornithologen Oliver Krischer aus Düren. \nDie Grünen freuen sich auf eine interessante zweistündige Wanderung. Alle Interessierten treffen sich dazu am 16. August um 14.45 Uhr auf dem Parkplatz am Pumpwerk in Inden-Lamersdorf. Von dort aus führt die Wanderung durch das Wäldchen entlang der Inde. Da dieser Weg unbefestigt und steil ist\, ist die Wanderung nicht für Kinderwagen\, Rollstuhl oder Gehhilfen zu empfehlen. \nUm besser planen zu können\, wird um Anmeldung per Email an ov@gruene-inden.de mit der Anzahl der Teilnehmenden zu senden. Wer von Jülich aus mit dem Fahrrad zur Exkursion fahren möchte\, kann dies bei der Anmeldung angeben und sich der Jülicher Gruppe anschließen. \n
URL:https://www.herzog-magazin.de/event/vogelstimmen-erkennen/
LOCATION:Pumpwerk Inden-Lamersdorf\, Inden-Lamersdorf\, NRW\, 52459\, Deutschland
CATEGORIES:Exkursion,Natur / Umwelt,Tiere
ATTACH;FMTTYPE=image/jpeg:https://www.herzog-magazin.de/wp-content/uploads/2020/02/gehölzschnitt.jpeg
END:VEVENT
END:VCALENDAR