    BEGIN:VCALENDAR
VERSION:2.0
PRODID:-//HERZOG Kultur- &amp; Stadtmagazin - ECPv4.9.2//NONSGML v1.0//EN
CALSCALE:GREGORIAN
METHOD:PUBLISH
X-WR-CALNAME:HERZOG Kultur- &amp; Stadtmagazin
X-ORIGINAL-URL:https://www.herzog-magazin.de
X-WR-CALDESC:Veranstaltungen im HERZOG Kultur- &amp; Stadtmagazin
BEGIN:VEVENT
DTSTART;TZID=Europe/Berlin:20220503T190000
DTEND;TZID=Europe/Berlin:20220503T190000
DTSTAMP:20260422T071742
CREATED:20220415T114847Z
LAST-MODIFIED:20220415T114847Z
UID:77776-1651604400-1651604400@www.herzog-magazin.de
SUMMARY:Von Schirachs  „Gott“ beim Overbacher Special
DESCRIPTION:Beim Overbacher Special am Dienstag\, 3. Mai\, präsentieren Lehrer des GHO das Theaterstück „Gott“ von Ferdinand von Schirach als szenische Lesung. Die Lesung wird um 19 Uhr in der Aula gehalten. \nRichard Gärtner\, 78 Jahre alt\, ist totunglücklich – und das kann man wörtlich nehmen. Er leidet weder an Schmerzen noch ist er unheilbar krank. „Ich bin einfach nur traurig\, ich will nicht mehr leben.“ Ein Schicksalsschlag hat ihm jeglichen Mut zum Weiterleben genommen und er möchte jetzt das Recht haben\, sein hoffnungs- und freudloses Leben zu beenden.  \nNatürlich könnte er einfach „Selbstmord“ begehen\, aber Gärtner geht es darum\, dass die Selbstbestimmung eines Menschen sein eigenes\, freigewähltes Ende miteinschließt. Daher fordert er von der Gesellschaft\, dem Wunsch nach dem freigewählten Suizid moralisch und gesetzlich nachzukommen. Ärzten soll es ermöglicht werden\, Sterbewilligen auf eigenes Verlangen ein Mittel zu verabreichen\, das sie schmerzlos und sicher aus dem Leben scheiden lässt. \nDiese Sichtweise wirft Fragen auf: Darf ich selbst entscheiden\, wann ich aus dem Leben scheiden darf – bevor ich eines natürlichen Todes sterbe? Oder verbietet es die Moral\, der christliche Glaube oder einfach der unendliche Wert des Lebens\, sich selbst das Leben zu nehmen? Ist es richtig\, sterbewillige Menschen in ihrem Wunsch zu unterstützen – oder falsch? \nDiese Fragen werden im Rahmen eines Ethikrates mit Herrn Gärtner\, Sachverständigen\, Rechtsexperten\, Ethikern\, Ärzten und einem Bischof sehr engagiert\, kontrovers\, sachlich\, aber auch emotional und bisweilen hitzig diskutiert. Auch die Zuschauer haben am Ende des Stückes die Gelegenheit\, ihre Meinung und Überzeugung zum Ausdruck zu bringen. Schließlich geht es um das Wertvollste\, das wir kennen: das menschliche Leben. \nEs spielen: Bert Voiss (Richard Gärtner)\, Stefan Frohwein (Vorsitzender)\, Henning Achenbach (Rechtsanwalt Biegler)\, Nathalie Koentges (Ärztin Brandt)\, Christina Reinartz (Frau Dr. Keller)\, Frederik Hens (Professor Litten)\, Rebecca Dicke (Professorin Sperling)\, und Marco Maria Emunds (Bischof Thiel). \nDie Aufführung findet in der Aula des Gymnasiums Haus Overbach statt. Der Eintritt kostet für Erwachsene 4 Euro\, für Schüler ist der Eintritt frei. Karten gibt es ab dem 25. April im Sekretariat der Schule sowie an der Abendkasse.  \nDie Aufführung beginnt um 19 Uhr\, Einlass ist ab 18.30 Uhr. Es gelten die aktuellen Corona-Regeln. \nMit dem Erlös werden die Flüchtlinge aus der Ukraine unterstützt. \n
URL:https://www.herzog-magazin.de/event/von-schirachs-gott-beim-overbacher-special/
LOCATION:Gymnasium Haus Overbach\, Franz-von-Sales Weg 1\, Jülich\, NRW\, 52428\, Deutschland
GEO:50.9418606;6.305797
X-APPLE-STRUCTURED-LOCATION;VALUE=URI;X-ADDRESS=Gymnasium Haus Overbach Franz-von-Sales Weg 1 Jülich NRW 52428 Deutschland;X-APPLE-RADIUS=500;X-TITLE=Franz-von-Sales Weg 1:geo:6.305797,50.9418606
CATEGORIES:kulturelle Bildung,Literatur,Theater
ATTACH;FMTTYPE=image/jpeg:https://www.herzog-magazin.de/wp-content/uploads/2022/04/Overbacher-Special-von-Schirach-Gott.jpg
ORGANIZER;CN="Gymnasium%20Haus%20Overbach":MAILTO:mail@gymnasium-overbach.de
END:VEVENT
END:VCALENDAR