    BEGIN:VCALENDAR
VERSION:2.0
PRODID:-//HERZOG Kultur- &amp; Stadtmagazin - ECPv4.9.2//NONSGML v1.0//EN
CALSCALE:GREGORIAN
METHOD:PUBLISH
X-WR-CALNAME:HERZOG Kultur- &amp; Stadtmagazin
X-ORIGINAL-URL:https://www.herzog-magazin.de
X-WR-CALDESC:Veranstaltungen im HERZOG Kultur- &amp; Stadtmagazin
BEGIN:VEVENT
DTSTART;TZID=Europe/Berlin:20250322T110000
DTEND;TZID=Europe/Berlin:20250322T140000
DTSTAMP:20260423T045006
CREATED:20250213T103026Z
LAST-MODIFIED:20250213T103026Z
UID:141656-1742641200-1742652000@www.herzog-magazin.de
SUMMARY:Vorsortierter Kindersachen-Trödelmarkt FeG
DESCRIPTION:Die Freie evangelische Gemeinde Jülich (FeG) veranstaltet in diesem Jahr\, am Samstag\, 22. März\, ihren ersten vorsortierten Kindersachen-Trödelmarkt in der Margaretenstraße 2 in Jülich. Verkauft werden Kinderanziehsachen in einwandfreiem Zustand in den Größen 50 – 134 und Spielzeug\, das bereit ist für eine zweite Runde. Eine Stärkung gibt es in Form von Kaffee und Kuchen in unserem Bistro. Der Trödelmarkt findet von 11-14 Uhr statt\, der Eintritt ist frei. Nähere Infos unter www.juelich.feg.de. \n
URL:https://www.herzog-magazin.de/event/vorsortierter-kindersachen-troedelmarkt-feg/
LOCATION:Freie evangelische Gemeinde Jülich\, Margaretenstraße 2\, Jülich\, NRW\, 52428\, Deutschland
GEO:50.9106343;6.3593934
X-APPLE-STRUCTURED-LOCATION;VALUE=URI;X-ADDRESS=Freie evangelische Gemeinde Jülich Margaretenstraße 2 Jülich NRW 52428 Deutschland;X-APPLE-RADIUS=500;X-TITLE=Margaretenstraße 2:geo:6.3593934,50.9106343
CATEGORIES:Essen & Trinken,Festival & Markt,für Kinder,Sonstiges
ATTACH;FMTTYPE=image/jpeg:https://www.herzog-magazin.de/wp-content/uploads/2025/01/clothes-3697374.jpg
END:VEVENT
END:VCALENDAR