    BEGIN:VCALENDAR
VERSION:2.0
PRODID:-//HERZOG Kultur- &amp; Stadtmagazin - ECPv4.9.2//NONSGML v1.0//EN
CALSCALE:GREGORIAN
METHOD:PUBLISH
X-WR-CALNAME:HERZOG Kultur- &amp; Stadtmagazin
X-ORIGINAL-URL:https://www.herzog-magazin.de
X-WR-CALDESC:Veranstaltungen im HERZOG Kultur- &amp; Stadtmagazin
BEGIN:VEVENT
DTSTART;TZID=Europe/Berlin:20250628T100000
DTEND;TZID=Europe/Berlin:20250628T170000
DTSTAMP:20260422T225043
CREATED:20250520T084929Z
LAST-MODIFIED:20250520T084929Z
UID:147586-1751104800-1751130000@www.herzog-magazin.de
SUMMARY:Vorträge zum Tag der Energiewende
DESCRIPTION:Der „Tag der Energiewende“\, initiiert vom Umweltbeirat der Stadt\, wird die Dinge in den Blick nehmen\, die jeder Bürger selbst in die Hand nehmen kann. Dabei soll es am Samstag\, 28. Juni ab 10 Uhr im Kulturbahnhof Jülich um die persönlichen Anschaffungen von großen Energieverbrauchern und -erzeugern gehen\, die einen maßgeblichen Einfluss auf die jeweilige Energiebilanz haben. Nach der Begrüßung durch Maik Boltes\, Umweltbeirat Jülich\, folgt um 10.30 Uhr ein Vortrag über Heizung\, insbesondere Wärmepumpe\, durch Peter Klafka\, Scientists for Future. Thomas Grube\, Forschungszentrum Jülich\, widmet sich ab 13 Uhr dem Verkehr\, insbesondere der E-Mobilität. Abschließend geht es um 15 Uhr um Stromerzeugung\, insbesondere PV\, die Taalke Wolf\, Solarenergieförderverein (SFV)\, nahebringt. \nDie Vorträge dauern jeweils etwa anderthalb Stunden. Es ist immer Zeit für Fragen und Diskussion eingeplant. Weitere Informationen unter\nwww.juelich.de/tagderenergiewende. \n
URL:https://www.herzog-magazin.de/event/vortraege-zum-tag-der-energiewende/
LOCATION:Kulturbahnhof (KuBa) Jülich\, Bahnhofsstraße 13\, Jülich\, NRW\, 52428\, Deutschland
GEO:50.91828;6.36768
X-APPLE-STRUCTURED-LOCATION;VALUE=URI;X-ADDRESS=Kulturbahnhof (KuBa) Jülich Bahnhofsstraße 13 Jülich NRW 52428 Deutschland;X-APPLE-RADIUS=500;X-TITLE=Bahnhofsstraße 13:geo:6.36768,50.91828
CATEGORIES:Natur / Umwelt,Technik,Verkehr,Vortrag
ATTACH;FMTTYPE=image/jpeg:https://www.herzog-magazin.de/wp-content/uploads/2025/05/Tag-der-Energie.jpg
ORGANIZER;CN="Stadt%20J%C3%BClich":MAILTO:info@juelich.de
END:VEVENT
END:VCALENDAR