    BEGIN:VCALENDAR
VERSION:2.0
PRODID:-//HERZOG Kultur- &amp; Stadtmagazin - ECPv4.9.2//NONSGML v1.0//EN
CALSCALE:GREGORIAN
METHOD:PUBLISH
X-WR-CALNAME:HERZOG Kultur- &amp; Stadtmagazin
X-ORIGINAL-URL:https://www.herzog-magazin.de
X-WR-CALDESC:Veranstaltungen im HERZOG Kultur- &amp; Stadtmagazin
BEGIN:VEVENT
DTSTART;TZID=Europe/Berlin:20221213T180000
DTEND;TZID=Europe/Berlin:20221213T200000
DTSTAMP:20260424T133556
CREATED:20221201T114434Z
LAST-MODIFIED:20221201T114434Z
UID:94832-1670954400-1670961600@www.herzog-magazin.de
SUMMARY:Vortrag über Cybersicherheit
DESCRIPTION:Wie sicher sind wir im Internet: Vortrag im Forum „Seen und Entdecken“. Der Kreis Düren veranstaltet gemeinsam mit der Fachhochschule des Mittelstandes (FHM) einen Vortragsabend zum Thema „Cybersicherheit im Alltag“ am Dienstag\, 13. Dezember\, von 18 bis 20 Uhr. Prof. Dr. Manfred Leisenberg vom Institut für Cybersicherheit Düren gibt Antworten auf die Frage: Wie sicher sind wir im Internet – beruflich und privat? \nDas Internet gehört zum Alltag. Daher ist es umso wichtiger\, auch in der digitalen Welt sicher unterwegs zu sein. Wie das geht\, erfahren die Teilnehmenden bei diesem „After-Work-Forum“ im Forum „Seen und Entdecken“\, Moltkestraße 39\, in Düren.  \nDie Teilnahme ist kostenfrei\, eine Anmeldung unter fh-mittelstand.de/dueren/after-work erforderlich. Die Ansprechpartnerin Judith Abels von der Stabsstelle Innovation und Wandel des Kreises Düren steht für weitere Informationen gerne unter 02421 / 221060114 oder j.abels@kreis-dueren.de zur Verfügung. \n
URL:https://www.herzog-magazin.de/event/vortrag-ueber-cybersicherheit/
LOCATION:Forum Seen & Entdecken des Kreises Düren\, Moltkestraße 39\, Düren\, NRW\, 52351\, Deutschland
CATEGORIES:Informationsveranstaltung,Technik,Vortrag
ATTACH;FMTTYPE=image/jpeg:https://www.herzog-magazin.de/wp-content/uploads/2022/12/DatenAdobeStock_237370773.jpg
ORGANIZER;CN="Kreis%20D%C3%BCren":MAILTO:mail@kreis-dueren.de
END:VEVENT
END:VCALENDAR