    BEGIN:VCALENDAR
VERSION:2.0
PRODID:-//HERZOG Kultur- &amp; Stadtmagazin - ECPv4.9.2//NONSGML v1.0//EN
CALSCALE:GREGORIAN
METHOD:PUBLISH
X-WR-CALNAME:HERZOG Kultur- &amp; Stadtmagazin
X-ORIGINAL-URL:https://www.herzog-magazin.de
X-WR-CALDESC:Veranstaltungen im HERZOG Kultur- &amp; Stadtmagazin
BEGIN:VEVENT
DTSTART;TZID=Europe/Berlin:20230727T193000
DTEND;TZID=Europe/Berlin:20230727T193000
DTSTAMP:20260421T053912
CREATED:20230629T103444Z
LAST-MODIFIED:20230629T103444Z
UID:110284-1690486200-1690486200@www.herzog-magazin.de
SUMMARY:Vortrag über Sophia von Sachsen-Lauenburg
DESCRIPTION:Erinnerung an Herzogin Sophia von Jülich-Berg: Am 9. September jährt sich der Todestag der Sophia von Sachsen-Lauenburg\, Herzogin von Jülich-Berg\, zum 550. Mal. Anlass genug\, um sich mit der Geschichte dieser für das rheinische Doppelterritorium wichtigen Herrscherpersönlichkeit auseinanderzusetzen. Dr. Frank Engel referiert am Donnerstag\, 27. Juli\, auf Einladung des Jülicher Geschichtsvereins über die bedeutende jülich-bergische Herzogin. Die Veranstaltung findet in der Schlosskapelle der Zitadelle Jülich statt und beginnt um 19.30 Uhr. \n1444 hatte Sophia Herzog Gerhard II. von Jülich-Berg geheiratet\, dem sie elf Jahre später einen Erbsohn schenkte. 1456 verfiel Gerhard in geistige Umnachtung\, und Sophie übernahm die Regierungsgeschäfte im Herzogtum für ihren erstgeborenen Sohn. Kein leichtes Unterfangen in einer Zeit\, in der die territoriale Situation im Nordwesten des Reiches durch den immer größer werdenden Einfluss des benachbarten Herzogtums Burgund in Aufruhr geriet. \nParallel zum Präsenzvortrag findet eine Übertragung via Zoom statt. Der entsprechende Einwahllink ist unter „Aktuelles“ auf der Internetseite www.juelicher-geschichtsverein.de zu finden. \n
URL:https://www.herzog-magazin.de/event/vortrag-ueber-sophia-von-sachsen-lauenburg/
LOCATION:Schlosskapelle der Zitadelle\, Schloßstraße\, Jülich\, NRW\, 52428\, Deutschland
CATEGORIES:Geschichte,kulturelle Bildung
ATTACH;FMTTYPE=image/jpeg:https://www.herzog-magazin.de/wp-content/uploads/2023/06/VortragSophiaVonSachsen-Lauenburg_web.jpg
ORGANIZER;CN="Stadt%20J%C3%BClich":MAILTO:info@juelich.de
END:VEVENT
END:VCALENDAR