    BEGIN:VCALENDAR
VERSION:2.0
PRODID:-//HERZOG Kultur- &amp; Stadtmagazin - ECPv4.9.2//NONSGML v1.0//EN
CALSCALE:GREGORIAN
METHOD:PUBLISH
X-WR-CALNAME:HERZOG Kultur- &amp; Stadtmagazin
X-ORIGINAL-URL:https://www.herzog-magazin.de
X-WR-CALDESC:Veranstaltungen im HERZOG Kultur- &amp; Stadtmagazin
BEGIN:VEVENT
DTSTART;TZID=Europe/Berlin:20231026T193000
DTEND;TZID=Europe/Berlin:20231026T193000
DTSTAMP:20260420T171321
CREATED:20231013T130451Z
LAST-MODIFIED:20231013T130451Z
UID:116331-1698348600-1698348600@www.herzog-magazin.de
SUMMARY:Vortrag zum Thema Leben mit Demenz
DESCRIPTION:Der Kreis Düren veranstaltet gemeinsam mit der Stadt Jülich\, dem Aktionsbündnis „Lokale Allianz für eine demenzfreundliche Stadt Jülich“ und dem Landesverband der Alzheimer Gesellschaften NRW e.V. einen Vortrag zum Thema „Leben mit Demenz“. Dieser findet am Donnerstag\, 26. Oktober\, statt.  \nMit der Diagnose Demenz verändert sich das Leben der Betroffenen und ihrer Angehörigen. Routinen\, das Miteinander und die Wahrnehmung der Umwelt sind nicht mehr so wie zuvor. Gleichzeitig ziehen sich viele Menschen mit Demenz zurück und finden sich schwerer zurecht. Die Gerontologin (Alterswissenschaftlerin) Regine Hofmeister hält den Vortrag „Raus aus dem Trott – Kreativ werden. Wie geht’s mit Demenz“ und gibt praktische Informationen sowie Tipps rund um das Thema Demenz.  \nDer Vortrag findet am Donnerstag\, 26. Oktober\, von 18 bis 19.30 Uhr im Jülicher Stadtteilzentrum Nordviertel\, Nordstraße 39\, statt. Die Teilnahme ist kostenlos. Es wird vorab um eine Anmeldung bei Beatrix Lenzen\, Stadt Jülich\, unter 02461 / 63237 oder blenzen@juelich.de gebeten.  \nDie „Lokale Allianz für Menschen mit Demenz im Kreis Düren“ fungiert als Kooperationspartner und setzt sich dafür ein\, den Alltag von Demenzbetroffenen leichter zu gestalten. Gemeinsam mit den unterschiedlichen Veranstaltern soll über das Thema Demenz informiert werden. Gleichzeitig werden Angebote für Betroffene und ihre Angehörigen ausgebaut und vernetzt. Im November ist ein Informationstag mit dem Thema „Tagespflege – ein Entlastungsangebot für pflegende Angehörige“ geplant.  \n
URL:https://www.herzog-magazin.de/event/vortrag-zum-thema-leben-mit-demenz/
LOCATION:Stadtteilzentrum Nordviertel\, Nordstraße 39\, Jülich\, NRW\, 52428\, Deutschland
CATEGORIES:Gesundheit,Medizin,Psychologie,Rat & Hilfe,Senioren,Vortrag
ATTACH;FMTTYPE=image/jpeg:https://www.herzog-magazin.de/wp-content/uploads/2023/05/Kreis-Dueren-2021-Logo-PUR-WEB.jpg
ORGANIZER;CN="Stadt%20J%C3%BClich":MAILTO:info@juelich.de
END:VEVENT
END:VCALENDAR