    BEGIN:VCALENDAR
VERSION:2.0
PRODID:-//HERZOG Kultur- &amp; Stadtmagazin - ECPv4.9.2//NONSGML v1.0//EN
CALSCALE:GREGORIAN
METHOD:PUBLISH
X-WR-CALNAME:HERZOG Kultur- &amp; Stadtmagazin
X-ORIGINAL-URL:https://www.herzog-magazin.de
X-WR-CALDESC:Veranstaltungen im HERZOG Kultur- &amp; Stadtmagazin
BEGIN:VEVENT
DTSTART;TZID=Europe/Berlin:20220409T143000
DTEND;TZID=Europe/Berlin:20220409T170000
DTSTAMP:20260423T064945
CREATED:20220406T105437Z
LAST-MODIFIED:20220406T105437Z
UID:77420-1649514600-1649523600@www.herzog-magazin.de
SUMMARY:Waffeln backen für die Ukraine
DESCRIPTION:Angesichts des Leids in dem vom Krieg geplagten Land möchte die Frauengemeinschaft Bourheim e.V. nicht tatenlos zusehen. Da es bereits eine erfolgreiche Sammlung von Hilfsgütern seitens des Maiclubs gegeben hat\, hat sich die Frauengemeinschaft für folgende Aktion entschieden: Waffeln backen für die Ukraine.  \nDazu lädt die Frauengemeinschaft Bourheim am Samstag\, 9. April\, von 14.30 bis 17 Uhr in die Akazienstraße 19 (Ecke Linzenicher Weg) ein. Für Sitzgelegenheiten und Getränke ist gesorgt. Die Waffeln können auch mitgenommen werden. Der Erlös geht auf das Spendenkonto der Stadt Jülich zu Gunsten der Ukraine. \n
URL:https://www.herzog-magazin.de/event/waffeln-backen-fuer-die-ukraine/
LOCATION:Bourheim\, Bourheim\, NRW\, 52428\, Deutschland
GEO:50.9028647;6.3310074
CATEGORIES:Essen & Trinken,Hilfsaktion
ATTACH;FMTTYPE=image/jpeg:https://www.herzog-magazin.de/wp-content/uploads/2022/04/food-gacbcb81fb_1920-pixabay.jpg
ORGANIZER;CN="Frauengemeinschaft%20Bourheim":MAILTO:mueller.bourheim@freenet.de
END:VEVENT
END:VCALENDAR