    BEGIN:VCALENDAR
VERSION:2.0
PRODID:-//HERZOG Kultur- &amp; Stadtmagazin - ECPv4.9.2//NONSGML v1.0//EN
CALSCALE:GREGORIAN
METHOD:PUBLISH
X-WR-CALNAME:HERZOG Kultur- &amp; Stadtmagazin
X-ORIGINAL-URL:https://www.herzog-magazin.de
X-WR-CALDESC:Veranstaltungen im HERZOG Kultur- &amp; Stadtmagazin
BEGIN:VEVENT
DTSTART;TZID=Europe/Berlin:20221023T093000
DTEND;TZID=Europe/Berlin:20221023T093000
DTSTAMP:20260420T164827
CREATED:20221014T100214Z
LAST-MODIFIED:20221014T100248Z
UID:90649-1666517400-1666517400@www.herzog-magazin.de
SUMMARY:Wanderung des SV Welldorf-Güsten
DESCRIPTION:Der SV Grün-Weiß Welldorf-Güsten startet die nächste Wanderung am Sonntag\, 23. Oktober. Es geht zum Schloss Kellenberg in Barmen. Die Mittagseinkehr wird in einem Restaurant gehalten.  \nDie Wanderstrecke beträgt etwa 4 Kilometer. Gestartet wird mit eigenen PKWs am Parkplatz Stegerstraße in Welldorf. Abfahrt ist um 9.30 Uhr.  \nDie Einladung gilt allen\, die in herbstlicher Natur in einer netten Gemeinschaft Bewegung und Freude genießen wollen. Weitere Informationen zur Wanderung gibt Helga Frinken\, Tel. 02463 / 1285. \n
URL:https://www.herzog-magazin.de/event/wanderung-des-sv-gruen-weiss-welldorf-guesten/
LOCATION:Welldorf\, Welldorf\, NRW\, 52428\, Deutschland
CATEGORIES:Exkursion,Sport
ATTACH;FMTTYPE=image/jpeg:https://www.herzog-magazin.de/wp-content/uploads/2022/10/Wandervögel-wieder-unterwegs_Foto_maxmann_pixabay-Netz-NEU.jpg
ORGANIZER;CN="SV%20Gr%C3%BCn-Wei%C3%9F%20Welldorf-G%C3%BCsten":MAILTO:info@sv.welldorf-guesten.de
END:VEVENT
END:VCALENDAR