    BEGIN:VCALENDAR
VERSION:2.0
PRODID:-//HERZOG Kultur- &amp; Stadtmagazin - ECPv4.9.2//NONSGML v1.0//EN
CALSCALE:GREGORIAN
METHOD:PUBLISH
X-WR-CALNAME:HERZOG Kultur- &amp; Stadtmagazin
X-ORIGINAL-URL:https://www.herzog-magazin.de
X-WR-CALDESC:Veranstaltungen im HERZOG Kultur- &amp; Stadtmagazin
BEGIN:VEVENT
DTSTART;TZID=Europe/Berlin:20200304T083000
DTEND;TZID=Europe/Berlin:20200304T083000
DTSTAMP:20260419T150158
CREATED:20200212T150721Z
LAST-MODIFIED:20200212T150721Z
UID:34473-1583310600-1583310600@www.herzog-magazin.de
SUMMARY:Wanderungen des Eifelvereins Jülich
DESCRIPTION:Mittwoch\, 4. März\nEine Wanderung von Venwegen nach Schlangenberg begleitet Albert Fischermann (02463 / 1243)\, etwa 15 Kilometer mit Einkehr. Treffpunkt zur Anreise mit Pkw in Fahrgemeinschaft ist um 8:30 Uhr am Bahnhof Jülich. \nMittwochnachmittags\nDie Nachmittagsgruppe wandert entlang der Rur zur Kleingartenanlage\, ungefähr 8 Kilometer mit Einkehr\, begleitet von Resi Wolff (Tel. 02461 / 56817). Treffpunkt ist um 14 Uhr am Schwanenteich.  \nSonntag\, 8. März\nWanderung durch das Wurmtal mit Heinz-Peter Claßen (Tel. 02461 / 1581)\, etwa 15 Kilometer mit Einkehr. Treffpunkt zur Anreise mit Pkw in Fahrgemeinschaft ist um 8:30 Uhr am Parkstreifen Kartäuserstraße. \nMittwoch\, 11. März\nEine Wanderung von Brandenberg über Lukasmühle und Zerkall nach Obermaubach unternehmen die Teilnehmer mit Norbert Kochs (Tel. 02461 / 4329)\, ungefähr 12 km mit Einkehr. Treffpunkt ist um 8:25 Uhr am Bahnhof Jülich. \nMittwochnachmittags nach Broich\nDie Nachmittagsgruppe wandert nach Broich\, etwa 9 Kilometer mit Einkehr\, begleitet von Anita Hackhausen (Tel. 01577 / 7199443). Treffpunkt ist um 14 Uhr am Schwanenteich.  \nSonntag\, 15. März\nDie Jugendgruppe trifft sich mit Claudia Humpert zur Erlebniswanderung entlang der Buntsandsteinfelsen in Nideggen. Treffpunkt ist um 10 Uhr am Bahnhof Jülich. Es ist Rucksackverpflegung angesagt.  \nMittwoch\, 18. März\nDie Rurtalwanderung begleitet Heinz-Günter Haubold (Tel. 02461 / 8428)\, etwa 15 Kilometer mit Einkehr. Treffpunkt ist um 8:30 Uhr am Bahnhof Jülich. \nMittwochnachmittags nach Stetternich\nDie Nachmittagsgruppe wandert nach Stetternich\, rund 10 Kilometer mit Einkehr \, begleitet von Dieter Dreilich (Tel. 01515 / 7746963). Treffpunkt ist um 14 Uhr am Schwanenteich.  \nSonntag\, 22. März\nEine Wanderung entlang der Erft um Grevenbroich unternehmen die Teilnehmer mit Wanderführer Albert Fischermann (Tel. 02463 / 1243)\, etwa 15 Kilometer mit Einkehr. Treffpunkt ist um 8:30 Uhr am Parkstreifen Kartäuserstraße. \nMontag\, 23. März\nZu einer Fahrradtour „um Jülich“ mit Einkehr – bei der rund 20 bis 40 Kilometer zurückzulegen sind – treffen sich die Mitfahrer bei geeignetem Wetter um 14 Uhr mit Wanderführer Karl-Josef Sentis (Tel. 02461 / 3404607) an der Stadionbrücke. \nMittwoch\, 25. März\nEine Wanderung durch den Bovenberger Wald begleitet Hans-Egon Drews (Tel. 02461 / 8416) etwa 12 Kilometer mit Einkehr. Treffpunkt ist um 8:25 Uhr am Bahnhof Jülich. \nMittwochnachmittags nach Bourheim begleitet von Käthe Sieber (Tel. 02462 / 905841)\, ungefähr 12 Kilometer mit Einkehr. Treffpunkt ist um 14 Uhr am Schwanenteich. \nWeitere Informationen hält die Ortsgruppe Jülich im Internet unter „www.eifelverein-juelich.de bereit. \n
URL:https://www.herzog-magazin.de/event/wanderungen-des-eifelvereins-juelich/2020-03-04/
LOCATION:NRW\, Deutschland
CATEGORIES:Natur / Umwelt,Sonstiges,Sport
ATTACH;FMTTYPE=image/jpeg:https://www.herzog-magazin.de/wp-content/uploads/2018/04/Wandervögel-wieder-unterwegs_Foto_maxmann_pixabay.jpg
ORGANIZER;CN="Eifelverein%20J%C3%BClich%20e.V.":MAILTO:info@eifelverein-juelich.de
END:VEVENT
END:VCALENDAR