    BEGIN:VCALENDAR
VERSION:2.0
PRODID:-//HERZOG Kultur- &amp; Stadtmagazin - ECPv4.9.2//NONSGML v1.0//EN
CALSCALE:GREGORIAN
METHOD:PUBLISH
X-WR-CALNAME:HERZOG Kultur- &amp; Stadtmagazin
X-ORIGINAL-URL:https://www.herzog-magazin.de
X-WR-CALDESC:Veranstaltungen im HERZOG Kultur- &amp; Stadtmagazin
BEGIN:VEVENT
DTSTART;TZID=Europe/Berlin:20230417T200000
DTEND;TZID=Europe/Berlin:20230417T220000
DTSTAMP:20260421T222106
CREATED:20230317T111324Z
LAST-MODIFIED:20230317T111717Z
UID:102532-1681761600-1681768800@www.herzog-magazin.de
SUMMARY:Wann wird es endlich wieder so\, wie es nie war
DESCRIPTION:Drama\, Komödie |Deutschland  2022 | FSK: ab 12 | 116 Min. | 6.50 Euro / 6.00 Euro erm. | Regie: Sonja Heiss | Darsteller: Devid Striesow\, Laura Tonke\, Arsseni Bultmann\, Merlin Rose\, Camille Loup Moltzen\, Pola Geiger \nAuf dem Gelände der größten psychiatrischen Klinik Schleswig-Holsteins aufzuwachsen ist irgendwie anders. Für Joachim\, den jüngsten Sohn von Direktor Meyerhoff\, gehören die Patient*innen quasi zur Familie. Sie sind auch viel netter zu ihm als seine beiden älteren Brüder\, die ihn in rasende Wutanfälle treiben. Seine Mutter sehnt sich Aquarelle malend nach italienischen Sommernächten statt norddeutschem Dauerregen\, während der Vater heimlich\, aber doch nicht diskret genug\, seine eigenen Wege geht. Doch während Joachim langsam erwachsen wird\, bekommt seine Welt\, nicht nur durch den Verlust der ersten Liebe\, immer mehr Risse. \nIrrsinnig komisch und tief berührend erzählt der auf dem autobiographischen Roman von Bestsellerautor Joachim Meyerhoff basierende Film davon\, wie schwierig es ist\, eine Familie zu sein. \n
URL:https://www.herzog-magazin.de/event/wann-wird-es-endlich-wieder-so-wie-es-nie-war/
LOCATION:Kulturbahnhof (KuBa) Jülich\, Bahnhofsstraße 13\, Jülich\, NRW\, 52428\, Deutschland
GEO:50.91828;6.36768
X-APPLE-STRUCTURED-LOCATION;VALUE=URI;X-ADDRESS=Kulturbahnhof (KuBa) Jülich Bahnhofsstraße 13 Jülich NRW 52428 Deutschland;X-APPLE-RADIUS=500;X-TITLE=Bahnhofsstraße 13:geo:6.36768,50.91828
CATEGORIES:Kino
ATTACH;FMTTYPE=image/jpeg:https://www.herzog-magazin.de/wp-content/uploads/2023/03/maxresdefault-9.jpg
ORGANIZER;CN="KuBa%20J%C3%BClich":MAILTO:info@kuba-juelich.de
END:VEVENT
END:VCALENDAR