    BEGIN:VCALENDAR
VERSION:2.0
PRODID:-//HERZOG Kultur- &amp; Stadtmagazin - ECPv4.9.2//NONSGML v1.0//EN
CALSCALE:GREGORIAN
METHOD:PUBLISH
X-WR-CALNAME:HERZOG Kultur- &amp; Stadtmagazin
X-ORIGINAL-URL:https://www.herzog-magazin.de
X-WR-CALDESC:Veranstaltungen im HERZOG Kultur- &amp; Stadtmagazin
BEGIN:VEVENT
DTSTART;TZID=Europe/Berlin:20231125T200000
DTEND;TZID=Europe/Berlin:20231125T200000
DTSTAMP:20260419T185928
CREATED:20231027T103904Z
LAST-MODIFIED:20231027T103904Z
UID:117158-1700942400-1700942400@www.herzog-magazin.de
SUMMARY:Weihnachts-Comedy mit Handwerker Peters
DESCRIPTION:Mit seinem Programm „Drauß‘ von der Baustell‘ komm‘ ich her – Weihnachts-Comedy“ ist Handwerker Peters am Samstag\, 25. November\, zu Gast im Kulturbahnhof Jülich\, Bahnhofstraße 13. Beginn ist um 20 Uhr. Einlass wird ab 19.30 Uhr gewährt. \nHier lacht sich das Publikum keinen Ast\, sondern gleich eine ganze Tanne. HP – Handwerker Peters bietet Weihnachts-Comedy der Xmas-Klasse (Radio- und Fernsehhumorist bei ARD\, WDR\, SWR; Comedy-Serie mit über drei Millionen Aufrufen bei YouTube\, Facebook und Instagram). Als Advent-Special gibt es etwas Besonderes: Handwerker Peters ist zwar die Hauptfigur\, aber es treten noch andere urkomische Figuren auf. Einzigartig und besonders. Von der Baustelle rein ins Leben oder in der Vorweihnachtszeit: ins Überleben. HP weiß\, dass es im Winter viel zu kalt für die Arbeit am Bau ist. („Jöi\, da platzen einem ja die Bierflaschen.“)  \nGut\, dass sein Betrieb im Advent Hausmeister-Services für Einkaufszentren übernimmt – und da lernt der Handwerker sofort: Leise rieselt der Stress. Wenn wir Mitte August in den Supermärkten Lebkuchen und Spekulatius entdecken\, dann sind die aber spät dran. Der Dezember beginnt\, wenn sich der Winterspeck noch als Frühlingsrollen tarnt und der DJ öfters nach „Lars Krismes“ gefragt wird. Besinnungslos besinnliche Glühweinjunkies stressen sich durch die Festtagsvorbereitungen und lamettieren sinnigen Unsinn über Weihnachten. \n„Drauß von der Baustell komm ich her“: zwei Stunden Kabarett zum Festtagsstress – der Bauarbeiter mit Wohlfühlfaktor verarbeitet Skurrilitäten zu Lametta. Alles geschrieben\, gespielt und gebacken vom Komiker Kai Kramosta (ausgezeichnet als „Comedian & Kabarettist des Jahres“ vom Deutschen Künstlermagazin). \nKarten sind im Vorverkauf zu 18 Euro inklusive Gebühr unter www.kuba-juelich.de oder bei Thalia in Jülich\, Kölnstraße 9\, erhältlich. An der Abendkasse kosten die Tickets 20 Euro. \n
URL:https://www.herzog-magazin.de/event/weihnachts-comedy-mit-handwerker-peters/
LOCATION:Kulturbahnhof (KuBa) Jülich\, Bahnhofsstraße 13\, Jülich\, NRW\, 52428\, Deutschland
GEO:50.91828;6.36768
X-APPLE-STRUCTURED-LOCATION;VALUE=URI;X-ADDRESS=Kulturbahnhof (KuBa) Jülich Bahnhofsstraße 13 Jülich NRW 52428 Deutschland;X-APPLE-RADIUS=500;X-TITLE=Bahnhofsstraße 13:geo:6.36768,50.91828
CATEGORIES:Kabarett & Comedy
ATTACH;FMTTYPE=image/jpeg:https://www.herzog-magazin.de/wp-content/uploads/2023/10/Handwerker-Peters-Weihnachts-Plakat-A6-300dpiweb.jpg
ORGANIZER;CN="Stadt%20J%C3%BClich":MAILTO:info@juelich.de
END:VEVENT
END:VCALENDAR