    BEGIN:VCALENDAR
VERSION:2.0
PRODID:-//HERZOG Kultur- &amp; Stadtmagazin - ECPv4.9.2//NONSGML v1.0//EN
CALSCALE:GREGORIAN
METHOD:PUBLISH
X-WR-CALNAME:HERZOG Kultur- &amp; Stadtmagazin
X-ORIGINAL-URL:https://www.herzog-magazin.de
X-WR-CALDESC:Veranstaltungen im HERZOG Kultur- &amp; Stadtmagazin
BEGIN:VEVENT
DTSTART;TZID=Europe/Berlin:20221216T190000
DTEND;TZID=Europe/Berlin:20221216T190000
DTSTAMP:20260425T020150
CREATED:20221128T131344Z
LAST-MODIFIED:20221128T131344Z
UID:94478-1671217200-1671217200@www.herzog-magazin.de
SUMMARY:Weihnachtskonzert mit bläservielharmonie
DESCRIPTION:Am Freitag\, 16. Dezember kommt die bläservielharmonie hambach nach Lich-Steinstraß: Um 19 Uhr beginnt das Weihnachtskonzert in der Kirche St. Andreas & Matthias. \n
URL:https://www.herzog-magazin.de/event/weihnachtskonzert-mit-blaeservielharmonie/
LOCATION:St. Andreas & Matthias Kirche\, Matthiasplatz 1\, LIch-Steinstraß\, NRW\, 52428\, Deutschland
GEO:50.9303648;6.3778354
X-APPLE-STRUCTURED-LOCATION;VALUE=URI;X-ADDRESS=St. Andreas & Matthias Kirche Matthiasplatz 1 LIch-Steinstraß NRW 52428 Deutschland;X-APPLE-RADIUS=500;X-TITLE=Matthiasplatz 1:geo:6.3778354,50.9303648
CATEGORIES:Musik,Musik & Konzerte,Religion
ATTACH;FMTTYPE=image/jpeg:https://www.herzog-magazin.de/wp-content/uploads/2019/11/christmas-3805334_1920-Kopie.jpg
ORGANIZER;CN="Hl.%20Maria%20Magdalena%20Aldenhoven%2FJ%C3%BClich":MAILTO:pfarramt@heilig-geist-juelich.de
END:VEVENT
END:VCALENDAR