    BEGIN:VCALENDAR
VERSION:2.0
PRODID:-//HERZOG Kultur- &amp; Stadtmagazin - ECPv4.9.2//NONSGML v1.0//EN
CALSCALE:GREGORIAN
METHOD:PUBLISH
X-WR-CALNAME:HERZOG Kultur- &amp; Stadtmagazin
X-ORIGINAL-URL:https://www.herzog-magazin.de
X-WR-CALDESC:Veranstaltungen im HERZOG Kultur- &amp; Stadtmagazin
BEGIN:VEVENT
DTSTART;TZID=Europe/Berlin:20221203T140000
DTEND;TZID=Europe/Berlin:20221203T180000
DTSTAMP:20260425T190838
CREATED:20221128T124730Z
LAST-MODIFIED:20221128T124810Z
UID:94465-1670076000-1670090400@www.herzog-magazin.de
SUMMARY:Weihnachtsmarkt in Mersch-Pattern
DESCRIPTION:Die Vereine von Mersch und Pattern feiern unter dem Motto „2 Dörfer – ein Wir“ beim traditionellen Weihnachtsmarkt. Er findet am Samstag\, 3. Dezember von 14 bis 18 Uhr im Heinrich-Bardenheuer-Haus\, Agathenstrasse in Mersch statt. Verschiedene Aussteller verkaufen handgemachte Dekorationsartikel. \nKinder des Kindergartens SpatzenNest werden dabei auftreten und danach vom Nikolaus selber überrascht werden. \n
URL:https://www.herzog-magazin.de/event/weihnachtsmarkt-in-mersch-pattern/
LOCATION:Heinrich-Bardenheuer-Haus\, Agathenstraße 32\, Jülich-Mersch\, 52428\, Deutschland
CATEGORIES:Festival & Markt,Sonstiges
ATTACH;FMTTYPE=image/jpeg:https://www.herzog-magazin.de/wp-content/uploads/2020/12/tuete-snow-1813157_1920.jpg
END:VEVENT
END:VCALENDAR