    BEGIN:VCALENDAR
VERSION:2.0
PRODID:-//HERZOG Kultur- &amp; Stadtmagazin - ECPv4.9.2//NONSGML v1.0//EN
CALSCALE:GREGORIAN
METHOD:PUBLISH
X-WR-CALNAME:HERZOG Kultur- &amp; Stadtmagazin
X-ORIGINAL-URL:https://www.herzog-magazin.de
X-WR-CALDESC:Veranstaltungen im HERZOG Kultur- &amp; Stadtmagazin
BEGIN:VEVENT
DTSTART;TZID=Europe/Berlin:20221217T193000
DTEND;TZID=Europe/Berlin:20221217T193000
DTSTAMP:20260419T120440
CREATED:20221124T121527Z
LAST-MODIFIED:20221124T121527Z
UID:94156-1671305400-1671305400@www.herzog-magazin.de
SUMMARY:Weihnachtsrevue auf Schloss Merode
DESCRIPTION:Eine literarisch-musikalische Winterreise mit prominenter Besetzung findet mit der Weihnachtsrevue der Aachener Schauspielschule am Samstag\, 17. Dezember\, in Schloss Merode statt. In Aachen ist sie zu Hause und in der Welt daheim. Eine Heimat ist die Aachener Schauspielschule für die feine Schauspielkunst\, die von ihr ausgeht und weit über die Grenzen Aachens und Deutschlands hinaus strahlt. \nZu einem Event der Extraklasse lädt die Schule in Kooperation mit „Euregio Marketing Events“ am 17. Dezember ein: Im Schloss Merode tragen prominente Künstler den Gästen ihre Lieblingsweihnachtsgeschichten vor\, untermalt mit  musikalischen Beiträgen. Mit dabei sind: Stefan Jonas\, Manuela Jansen\, George Baumgartl\, René Blanche\, Karina Kettenis\, Elena Kelzenberg und Roland Heitz. Der Rittersaal als Veranstaltungsräumlichkeit bietet lediglich ein begrenztes Platzangebot\, wer sich zuerst meldet… \nBeginn ist um 19.30 Uhr. Einlass wird ab 18.30 Uhr gewährt. \nDer Eintritt beträgt  25\,50 Euro und beinhaltet den Zutritt zum Weihnachtsmarkt und einen Sektempfang. \nKarten können bei r. blanche@aachener-schauspielschule.de sowie bei peter.jumpertz@euregio-marketing-events.de oder Tel 0177 / 4559401 (Peter Jumpertz) bestellt werden. \n
URL:https://www.herzog-magazin.de/event/weihnachtsrevue-auf-schloss-merode/
LOCATION:Schloss Merode\, Kreuzherrenstraße 1\, Langerwehe-Merode\, NRW\, 52379\, Deutschland
CATEGORIES:kulturelle Bildung,Literatur,Musik,Musik & Konzerte,Theater
ATTACH;FMTTYPE=image/jpeg:https://www.herzog-magazin.de/wp-content/uploads/2022/11/Schloss-Merode_pixel2013_pixabay.jpeg
ORGANIZER;CN="Aachener%20Schauspielschule":MAILTO:kontakt@aachener-schauspielschule.de
END:VEVENT
END:VCALENDAR