    BEGIN:VCALENDAR
VERSION:2.0
PRODID:-//HERZOG Kultur- &amp; Stadtmagazin - ECPv4.9.2//NONSGML v1.0//EN
CALSCALE:GREGORIAN
METHOD:PUBLISH
X-WR-CALNAME:HERZOG Kultur- &amp; Stadtmagazin
X-ORIGINAL-URL:https://www.herzog-magazin.de
X-WR-CALDESC:Veranstaltungen im HERZOG Kultur- &amp; Stadtmagazin
BEGIN:VEVENT
DTSTART;TZID=Europe/Berlin:20251121T160000
DTEND;TZID=Europe/Berlin:20251121T160000
DTSTAMP:20260423T003359
CREATED:20251120T100350Z
LAST-MODIFIED:20251120T100350Z
UID:158021-1763740800-1763740800@www.herzog-magazin.de
SUMMARY:Weihnachtssingen in der Propsteikirche
DESCRIPTION:Die Pfarrei Heilig Geist lädt alle Sangesfreudigen zum offenen Weihnachtssingen am 4. Adventssonntag\, 21. Dezember\, in die Pfarrkirche St. Mariä Himmelfahrt ein. \nUnter dem schon bekannten Motto „Benedicamus Domino“ sollen ab 16 Uhr gemeinsam Lieder gesungen werden\, begleitet von Kantor Christof Rück. Diesmal wird nicht nur die Orgel erklingen\, es werden auch einige junge Menschen mit verschiedenen Blasinstrumenten musizieren. Jeder\, der Freude am gemeinsamen Singen hat\, kann mitmachen. \n
URL:https://www.herzog-magazin.de/event/weihnachtssingen-in-der-propsteikirche/
LOCATION:Propsteipfarrkirche St.Mariä Himmelfahrt\, Stiftsherrenstraße 15\, Jülich\, NRW\, 52428\, Deutschland
GEO:50.9214998;6.3593009
X-APPLE-STRUCTURED-LOCATION;VALUE=URI;X-ADDRESS=Propsteipfarrkirche St.Mariä Himmelfahrt Stiftsherrenstraße 15 Jülich NRW 52428 Deutschland;X-APPLE-RADIUS=500;X-TITLE=Stiftsherrenstraße 15:geo:6.3593009,50.9214998
CATEGORIES:Musik,Religion
ATTACH;FMTTYPE=image/jpeg:https://www.herzog-magazin.de/wp-content/uploads/2026/03/PfarrkircheIMG_9327.jpg
ORGANIZER;CN="Kath.%20Pfarrei%20Heilig%20Geist%20J%C3%BClich":MAILTO:pfarramt@heilig-geist-juelich.de
END:VEVENT
END:VCALENDAR