    BEGIN:VCALENDAR
VERSION:2.0
PRODID:-//HERZOG Kultur- &amp; Stadtmagazin - ECPv4.9.2//NONSGML v1.0//EN
CALSCALE:GREGORIAN
METHOD:PUBLISH
X-WR-CALNAME:HERZOG Kultur- &amp; Stadtmagazin
X-ORIGINAL-URL:https://www.herzog-magazin.de
X-WR-CALDESC:Veranstaltungen im HERZOG Kultur- &amp; Stadtmagazin
BEGIN:VEVENT
DTSTART;TZID=Europe/Berlin:20230916T200000
DTEND;TZID=Europe/Berlin:20230916T200000
DTSTAMP:20260423T140216
CREATED:20230817T134616Z
LAST-MODIFIED:20230817T134651Z
UID:112556-1694894400-1694894400@www.herzog-magazin.de
SUMMARY:Willi & Ernst als „Zwei Pinguine“ im KuBa
DESCRIPTION:Die zwei „Sahneschnitten“ auf Abwegen: Mit ihrem neuen Programm „Zwei Pinguine vom Nordpol“ sind Willi & Ernst am Samstag\, 16. September\, im Jülicher Kulturbahnhof. Die Show beginnt um 20 Uhr. Einlass wird ab 19.30 Uhr gewährt. \nDass es am Nordpol keine Pinguine gibt\, wissen selbst die beiden Kowelenzer Rentner aus Leidenschaft. Aber sie fühlen sich so: einsam\, allein und getrieben von der Frage: „Wie sind wir dahin gekommen\, wo wir gerade sind\, und warum?“ \nAuf der Eisscholle ihres Lebens machen sie sich im Angesicht des Schwertwals Gedanken über das Leben und alles das\, was sie in der Seniorenresidenz zwischen Rehasport und Bingo-Nachmittag von selbigen mitbekommen. Und weil sich die Welt gerade im Minutentakt ändert\, konzentrieren sich die zwei Freunde auf die wichtigen Punkte des Lebens: Liebe\, Freunde\, Alkohol. Und damit lösen sie vermutlich jedes Problem auf der Welt. \nIn kleinen Szenen und schnellen Wortwechseln versuchen die beiden Frauentypen\, sich politisch korrekt zu verhalten\, öffnen sich neuen Dingen wie dem Hunsrück\, Mayen und Cannabis-Tabletten und versuchen trotz all ihrer körperlichen Gebrechen und Unzulänglichkeiten\, das eine weibliche Herz zu erobern\, für das es sich zu leben lohnt. Auch in ihrem sechsten abendfüllenden Programm erfinden sich „Willi & Ernst“ – Dirk Zimmer & Markus Kirschbaum – nicht neu\, sondern setzen auf das\, was sie seit vielen Jahren ausmacht und was man auch wieder in der ZDF-Mädchensitzung sehen konnte: komödiantischer Slapstick\, rheinischer Humor\, Improvisation\, Theater\, Publikumsnähe\, eine riesige Portion Charme und ihre begnadeten Körper im Takt der Musik. \nTickets sind online unter www.kuba-juelich.de erhältlich. Tickets kosten im Vorverkauf 22 Euro inklusive Gebühren sowie 25 Euro an der Abendkasse. \n
URL:https://www.herzog-magazin.de/event/willi-ernst-als-zwei-pinguine-vom-nordpol-im-kuba/
LOCATION:Kulturbahnhof (KuBa) Jülich\, Bahnhofsstraße 13\, Jülich\, NRW\, 52428\, Deutschland
GEO:50.91828;6.36768
X-APPLE-STRUCTURED-LOCATION;VALUE=URI;X-ADDRESS=Kulturbahnhof (KuBa) Jülich Bahnhofsstraße 13 Jülich NRW 52428 Deutschland;X-APPLE-RADIUS=500;X-TITLE=Bahnhofsstraße 13:geo:6.36768,50.91828
CATEGORIES:Kabarett & Comedy
ATTACH;FMTTYPE=image/jpeg:https://www.herzog-magazin.de/wp-content/uploads/2023/08/Willi_und_Ernst_Zwei_Pinguine_am_Nordpol.jpg
ORGANIZER;CN="Kultur%20im%20Bahnhof%20e.V.":MAILTO:info@kuba-juelich.de
END:VEVENT
END:VCALENDAR